BEGIN:VCALENDAR
VERSION:2.0
PRODID:-//St. Petersburg Alumnae Chapter of Delta Sigma Theta Sorority, Inc. - ECPv6.15.20//NONSGML v1.0//EN
CALSCALE:GREGORIAN
METHOD:PUBLISH
X-WR-CALNAME:St. Petersburg Alumnae Chapter of Delta Sigma Theta Sorority, Inc.
X-ORIGINAL-URL:https://www.stpetedeltas.org
X-WR-CALDESC:Events for St. Petersburg Alumnae Chapter of Delta Sigma Theta Sorority, Inc.
REFRESH-INTERVAL;VALUE=DURATION:PT1H
X-Robots-Tag:noindex
X-PUBLISHED-TTL:PT1H
BEGIN:VTIMEZONE
TZID:America/New_York
BEGIN:DAYLIGHT
TZOFFSETFROM:-0500
TZOFFSETTO:-0400
TZNAME:EDT
DTSTART:20230312T070000
END:DAYLIGHT
BEGIN:STANDARD
TZOFFSETFROM:-0400
TZOFFSETTO:-0500
TZNAME:EST
DTSTART:20231105T060000
END:STANDARD
BEGIN:DAYLIGHT
TZOFFSETFROM:-0500
TZOFFSETTO:-0400
TZNAME:EDT
DTSTART:20240310T070000
END:DAYLIGHT
BEGIN:STANDARD
TZOFFSETFROM:-0400
TZOFFSETTO:-0500
TZNAME:EST
DTSTART:20241103T060000
END:STANDARD
BEGIN:DAYLIGHT
TZOFFSETFROM:-0500
TZOFFSETTO:-0400
TZNAME:EDT
DTSTART:20250309T070000
END:DAYLIGHT
BEGIN:STANDARD
TZOFFSETFROM:-0400
TZOFFSETTO:-0500
TZNAME:EST
DTSTART:20251102T060000
END:STANDARD
END:VTIMEZONE
BEGIN:VEVENT
DTSTART;TZID=America/New_York:20240310T110000
DTEND;TZID=America/New_York:20240310T140000
DTSTAMP:20260424T215524
CREATED:20240307T154606Z
LAST-MODIFIED:20240307T175351Z
UID:10378-1710068400-1710079200@www.stpetedeltas.org
SUMMARY:Vaccination Clinic
DESCRIPTION:[vc_row][vc_column][vc_column_text] \nPlease join the St. Petersburg Alumnae Chapter\, in conjunction with Good Health Wins\, for a vaccination clinic. \nCovid \nFlu \nShingles \nTetanus \nRSV \nPnemonia \nHepatits A+B \nWalk-In Welcome but Sign-Up Below to secure your spot! \n[/vc_column_text]Sign-Up[/vc_column][/vc_row]
URL:https://www.stpetedeltas.org/event/vaccination-clinic-mar-24/
LOCATION:Friendship Missionary Baptist Church\, 3300 31st St S\, St. Petersburg\, FL\, 33712\, United States
CATEGORIES:public
ATTACH;FMTTYPE=image/jpeg:https://www.stpetedeltas.org/wp-content/uploads/2024/03/vaccination-0324.jpg
END:VEVENT
BEGIN:VEVENT
DTSTART;TZID=America/New_York:20240310T120000
DTEND;TZID=America/New_York:20240310T170000
DTSTAMP:20260424T215524
CREATED:20240307T155022Z
LAST-MODIFIED:20240307T175342Z
UID:10384-1710072000-1710090000@www.stpetedeltas.org
SUMMARY:OneBlood Blood Drive
DESCRIPTION:[vc_row][vc_column][vc_column_text] \nJoin the St. Petersburg Alumnae Chapter of Delta Sigma Theta Sorority\, Inc.\, as we partner with OneBlood to stress the need for eligible blood donors and encourage the public to give blood to help maintain a sufficient blood supply and prevent shortages in Florida.  During this season of giving\, please consider giving a gift that could save someone’s life.  Appointments are preferred\, but walk-ins are also welcome.  Please share the donation signup link or QR with everyone.[/vc_column_text][/vc_column][/vc_row][vc_row][vc_column]Schedule an Appointment[/vc_column][/vc_row]
URL:https://www.stpetedeltas.org/event/oneblood-blood-drive-03-24/
LOCATION:Galilee Baptist Church\, 505 35th Street S\, St. Petersburg\, Florida
CATEGORIES:public
ATTACH;FMTTYPE=image/jpeg:https://www.stpetedeltas.org/wp-content/uploads/2023/11/Big-Red-Bus-Profile-Right-Extended.jpg
END:VEVENT
END:VCALENDAR