BEGIN:VCALENDAR
VERSION:2.0
PRODID:-//St. Petersburg Alumnae Chapter of Delta Sigma Theta Sorority, Inc. - ECPv6.15.20//NONSGML v1.0//EN
CALSCALE:GREGORIAN
METHOD:PUBLISH
X-WR-CALNAME:St. Petersburg Alumnae Chapter of Delta Sigma Theta Sorority, Inc.
X-ORIGINAL-URL:https://www.stpetedeltas.org
X-WR-CALDESC:Events for St. Petersburg Alumnae Chapter of Delta Sigma Theta Sorority, Inc.
REFRESH-INTERVAL;VALUE=DURATION:PT1H
X-Robots-Tag:noindex
X-PUBLISHED-TTL:PT1H
BEGIN:VTIMEZONE
TZID:America/New_York
BEGIN:DAYLIGHT
TZOFFSETFROM:-0500
TZOFFSETTO:-0400
TZNAME:EDT
DTSTART:20230312T070000
END:DAYLIGHT
BEGIN:STANDARD
TZOFFSETFROM:-0400
TZOFFSETTO:-0500
TZNAME:EST
DTSTART:20231105T060000
END:STANDARD
BEGIN:DAYLIGHT
TZOFFSETFROM:-0500
TZOFFSETTO:-0400
TZNAME:EDT
DTSTART:20240310T070000
END:DAYLIGHT
BEGIN:STANDARD
TZOFFSETFROM:-0400
TZOFFSETTO:-0500
TZNAME:EST
DTSTART:20241103T060000
END:STANDARD
BEGIN:DAYLIGHT
TZOFFSETFROM:-0500
TZOFFSETTO:-0400
TZNAME:EDT
DTSTART:20250309T070000
END:DAYLIGHT
BEGIN:STANDARD
TZOFFSETFROM:-0400
TZOFFSETTO:-0500
TZNAME:EST
DTSTART:20251102T060000
END:STANDARD
END:VTIMEZONE
BEGIN:VEVENT
DTSTART;TZID=America/New_York:20240511T100000
DTEND;TZID=America/New_York:20240511T123000
DTSTAMP:20260424T192321
CREATED:20240423T212405Z
LAST-MODIFIED:20240508T195342Z
UID:10429-1715421600-1715430600@www.stpetedeltas.org
SUMMARY:Monthly Chapter Meeting
DESCRIPTION:  \nWelcome to the St. Petersburg Alumnae Chapter of Delta Sigma Theta Sorority\, Inc. \nWe meet on the second Saturday of each month from September through to June.  This month’s meeting will be held at the following location:​\nThe Frank Cubby Center – Galilee M.B. Church\n3438 5th Avenue South\, St. Petersburg\, Florida\n10:00am – 12:30pm \n​Our meetings begin promptly at 10am and business attire is required. Meetings are limited to duly initiated members of Delta Sigma Theta Sorority\, Inc. only. Visiting members are always welcomed and will be required to show official proof of membership and picture identification. First time visiting sorors are encouraged to contact our 1st Vice President at 1vp@stpetedeltas.org for verification of credentials prior to admittance. \nWe look forward to welcoming you to St. Petersburg Alumnae!
URL:https://www.stpetedeltas.org/event/monthly-chapter-meeting-may-24/
LOCATION:The Frank Cubby Center\, 3438 5th Avenue South\, St. Petersburg\, FL\, United States
CATEGORIES:public
ATTACH;FMTTYPE=image/jpeg:https://www.stpetedeltas.org/wp-content/uploads/2020/05/black-history-2020.jpg
END:VEVENT
END:VCALENDAR