BEGIN:VCALENDAR
VERSION:2.0
PRODID:-//St. Petersburg Alumnae Chapter of Delta Sigma Theta Sorority, Inc. - ECPv6.15.20//NONSGML v1.0//EN
CALSCALE:GREGORIAN
METHOD:PUBLISH
X-ORIGINAL-URL:https://www.stpetedeltas.org
X-WR-CALDESC:Events for St. Petersburg Alumnae Chapter of Delta Sigma Theta Sorority, Inc.
REFRESH-INTERVAL;VALUE=DURATION:PT1H
X-Robots-Tag:noindex
X-PUBLISHED-TTL:PT1H
BEGIN:VTIMEZONE
TZID:America/New_York
BEGIN:DAYLIGHT
TZOFFSETFROM:-0500
TZOFFSETTO:-0400
TZNAME:EDT
DTSTART:20230312T070000
END:DAYLIGHT
BEGIN:STANDARD
TZOFFSETFROM:-0400
TZOFFSETTO:-0500
TZNAME:EST
DTSTART:20231105T060000
END:STANDARD
BEGIN:DAYLIGHT
TZOFFSETFROM:-0500
TZOFFSETTO:-0400
TZNAME:EDT
DTSTART:20240310T070000
END:DAYLIGHT
BEGIN:STANDARD
TZOFFSETFROM:-0400
TZOFFSETTO:-0500
TZNAME:EST
DTSTART:20241103T060000
END:STANDARD
BEGIN:DAYLIGHT
TZOFFSETFROM:-0500
TZOFFSETTO:-0400
TZNAME:EDT
DTSTART:20250309T070000
END:DAYLIGHT
BEGIN:STANDARD
TZOFFSETFROM:-0400
TZOFFSETTO:-0500
TZNAME:EST
DTSTART:20251102T060000
END:STANDARD
END:VTIMEZONE
BEGIN:VEVENT
DTSTART;TZID=America/New_York:20240519T170000
DTEND;TZID=America/New_York:20240519T200000
DTSTAMP:20260424T192216
CREATED:20240423T205046Z
LAST-MODIFIED:20240423T210929Z
UID:10406-1716138000-1716148800@www.stpetedeltas.org
SUMMARY:Beautillion Militaire Gala
DESCRIPTION:Join us for the 2024 Delta Class Beautilion Militaire Gala as we close out the Beautillion Delta Class. We are excited to present these young men to the community. \nGet ready for a night of elegance and sophistication at the Beautillion Militaire Gala – a celebration of style\, grace\, and achievement! \nYou’re cordially invited by the St. Petersburg Alumnae Chapter of Delta Sigma Theta Incorporated to the Beautillion Militaire Gala Delta Class 2024! Anticipate an evening filled with elegance and jubilation at The Coliseum. Mark your calendar for Sunday\, May 19\, 2024\, at 5:00 PM\, as we commemorate the transition of our Delta Class of young men into adulthood. Dress impeccably in your finest attire and get ready to create lasting memories while celebrating our remarkable young men. Ensure you don’t miss this extraordinary event\, promising an unforgettable night! \n\n\nBuy Tickets on Eventbrite\n\nBuy Tickets
URL:https://www.stpetedeltas.org/event/beautillion-militaire-gala-2024/
LOCATION:The Coliseum\, 535 4th Ave N\, St. Petersburg\, FL\, 33701\, United States
CATEGORIES:public
ATTACH;FMTTYPE=image/png:https://www.stpetedeltas.org/wp-content/uploads/2024/04/2024-Beautillion_Gala.png
END:VEVENT
END:VCALENDAR