BEGIN:VCALENDAR
VERSION:2.0
PRODID:-//St. Petersburg Alumnae Chapter of Delta Sigma Theta Sorority, Inc. - ECPv6.15.20//NONSGML v1.0//EN
CALSCALE:GREGORIAN
METHOD:PUBLISH
X-WR-CALNAME:St. Petersburg Alumnae Chapter of Delta Sigma Theta Sorority, Inc.
X-ORIGINAL-URL:https://www.stpetedeltas.org
X-WR-CALDESC:Events for St. Petersburg Alumnae Chapter of Delta Sigma Theta Sorority, Inc.
REFRESH-INTERVAL;VALUE=DURATION:PT1H
X-Robots-Tag:noindex
X-PUBLISHED-TTL:PT1H
BEGIN:VTIMEZONE
TZID:America/New_York
BEGIN:DAYLIGHT
TZOFFSETFROM:-0500
TZOFFSETTO:-0400
TZNAME:EDT
DTSTART:20240310T070000
END:DAYLIGHT
BEGIN:STANDARD
TZOFFSETFROM:-0400
TZOFFSETTO:-0500
TZNAME:EST
DTSTART:20241103T060000
END:STANDARD
BEGIN:DAYLIGHT
TZOFFSETFROM:-0500
TZOFFSETTO:-0400
TZNAME:EDT
DTSTART:20250309T070000
END:DAYLIGHT
BEGIN:STANDARD
TZOFFSETFROM:-0400
TZOFFSETTO:-0500
TZNAME:EST
DTSTART:20251102T060000
END:STANDARD
BEGIN:DAYLIGHT
TZOFFSETFROM:-0500
TZOFFSETTO:-0400
TZNAME:EDT
DTSTART:20260308T070000
END:DAYLIGHT
BEGIN:STANDARD
TZOFFSETFROM:-0400
TZOFFSETTO:-0500
TZNAME:EST
DTSTART:20261101T060000
END:STANDARD
END:VTIMEZONE
BEGIN:VEVENT
DTSTART;TZID=America/New_York:20250914T110000
DTEND;TZID=America/New_York:20250914T140000
DTSTAMP:20260423T183926
CREATED:20250907T160750Z
LAST-MODIFIED:20250907T161031Z
UID:10901-1757847600-1757858400@www.stpetedeltas.org
SUMMARY:Vaccination Clinic
DESCRIPTION:[vc_row][vc_column][vc_column_text] \nPlease join the St. Petersburg Alumnae Chapter\, in conjunction with Good Health Wins\, for a vaccination clinic. \nCovid \nFlu \nShingles \nTetanus \nRSV \nPnemonia \nHepatits A+B \nWalk-In Welcome but Sign-Up Below to secure your spot! \n[/vc_column_text]Sign-Up[/vc_column][/vc_row]
URL:https://www.stpetedeltas.org/event/vaccination-clinic-sep-25/
LOCATION:Friendship Missionary Baptist Church\, 3300 31st St S\, St. Petersburg\, FL\, 33712\, United States
CATEGORIES:public
ATTACH;FMTTYPE=image/png:https://www.stpetedeltas.org/wp-content/uploads/2025/09/Vaccination-Clinic-Flyer-9.14.25.png
END:VEVENT
END:VCALENDAR