BEGIN:VCALENDAR
VERSION:2.0
PRODID:-//St. Petersburg Alumnae Chapter of Delta Sigma Theta Sorority, Inc. - ECPv6.15.20//NONSGML v1.0//EN
CALSCALE:GREGORIAN
METHOD:PUBLISH
X-ORIGINAL-URL:https://www.stpetedeltas.org
X-WR-CALDESC:Events for St. Petersburg Alumnae Chapter of Delta Sigma Theta Sorority, Inc.
REFRESH-INTERVAL;VALUE=DURATION:PT1H
X-Robots-Tag:noindex
X-PUBLISHED-TTL:PT1H
BEGIN:VTIMEZONE
TZID:America/New_York
BEGIN:DAYLIGHT
TZOFFSETFROM:-0500
TZOFFSETTO:-0400
TZNAME:EDT
DTSTART:20240310T070000
END:DAYLIGHT
BEGIN:STANDARD
TZOFFSETFROM:-0400
TZOFFSETTO:-0500
TZNAME:EST
DTSTART:20241103T060000
END:STANDARD
BEGIN:DAYLIGHT
TZOFFSETFROM:-0500
TZOFFSETTO:-0400
TZNAME:EDT
DTSTART:20250309T070000
END:DAYLIGHT
BEGIN:STANDARD
TZOFFSETFROM:-0400
TZOFFSETTO:-0500
TZNAME:EST
DTSTART:20251102T060000
END:STANDARD
BEGIN:DAYLIGHT
TZOFFSETFROM:-0500
TZOFFSETTO:-0400
TZNAME:EDT
DTSTART:20260308T070000
END:DAYLIGHT
BEGIN:STANDARD
TZOFFSETFROM:-0400
TZOFFSETTO:-0500
TZNAME:EST
DTSTART:20261101T060000
END:STANDARD
END:VTIMEZONE
BEGIN:VEVENT
DTSTART;TZID=America/New_York:20251206T080000
DTEND;TZID=America/New_York:20251206T110000
DTSTAMP:20260423T151332
CREATED:20251111T222430Z
LAST-MODIFIED:20251111T222430Z
UID:10972-1765008000-1765018800@www.stpetedeltas.org
SUMMARY:Breakfast With Santa 2025
DESCRIPTION:[vc_row][vc_column][vc_column_text css=””] \nA Holiday Journey of Joy\, Discovery\, and Community Spirit! \nDon’t miss the train—The Delta Express is ready to roll! \nLet’s celebrate the season with warmth\, wonder\, and a whole lot of holiday spirit. \nHold onto your conductor hats—because the Delta Express is rolling in with a sleigh-full of cheer and a trainload of magic! This isn’t just Breakfast with Santa—it’s a festive adventure designed to warm hearts and connect our community in the most delightful way through our Five Point Thrust. \nGet ready to ride the rails of joy and celebration! The Delta Express is pulling into town for a magical morning that promises to be a holiday to remember. \nJoin us for our Annual Breakfast with Santa community event\, where festive fun meets a heartwarming St. Petersburg Alumnae Chapter of Delta Sigma Theta Sorority\, Inc. tradition. \nChugging through with Holiday Cheer\, you will enjoy: \n\nHearty Holiday Breakfast\nArts & Crafts Station\nHot Cocoa Station: Sip on warm holiday magic with marshmallows\, and peppermint stirrers\nSweet Treats\nPhoto Opportunity with Santa\nEvery child will receive a special holiday gift—straight from Santa’s sack of surprises!\n\nSanta will be making a special appearance from 8:30AM to 10:30AM to spread holiday cheer.\n**Don’t forget your cameras/cell phone for the perfect photo opportunity with Santa. \nIndulge in a delightful Holiday breakfast that satisfies even the pickiest little elves! From freshly made waffles\, crispy bacon\, sausage\, and fruit platters- we’ve got a wonderful breakfast and a special holiday gift for all children! \n[/vc_column_text][/vc_column][/vc_row]
URL:https://www.stpetedeltas.org/event/breakfast-with-santa-2025/
LOCATION:Boca Ciega Cafeteria\, 924 58th St S\, Gulfport\, FL\, 33707\, United States
CATEGORIES:featured,public
ATTACH;FMTTYPE=image/jpeg:https://www.stpetedeltas.org/wp-content/uploads/2025/11/deltaexpress-snowwhite-2025-copy-1-scaled.jpg
END:VEVENT
END:VCALENDAR