BEGIN:VCALENDAR
VERSION:2.0
PRODID:-//St. Petersburg Alumnae Chapter of Delta Sigma Theta Sorority, Inc. - ECPv6.15.20//NONSGML v1.0//EN
CALSCALE:GREGORIAN
METHOD:PUBLISH
X-ORIGINAL-URL:https://www.stpetedeltas.org
X-WR-CALDESC:Events for St. Petersburg Alumnae Chapter of Delta Sigma Theta Sorority, Inc.
REFRESH-INTERVAL;VALUE=DURATION:PT1H
X-Robots-Tag:noindex
X-PUBLISHED-TTL:PT1H
BEGIN:VTIMEZONE
TZID:America/New_York
BEGIN:DAYLIGHT
TZOFFSETFROM:-0500
TZOFFSETTO:-0400
TZNAME:EDT
DTSTART:20240310T070000
END:DAYLIGHT
BEGIN:STANDARD
TZOFFSETFROM:-0400
TZOFFSETTO:-0500
TZNAME:EST
DTSTART:20241103T060000
END:STANDARD
BEGIN:DAYLIGHT
TZOFFSETFROM:-0500
TZOFFSETTO:-0400
TZNAME:EDT
DTSTART:20250309T070000
END:DAYLIGHT
BEGIN:STANDARD
TZOFFSETFROM:-0400
TZOFFSETTO:-0500
TZNAME:EST
DTSTART:20251102T060000
END:STANDARD
BEGIN:DAYLIGHT
TZOFFSETFROM:-0500
TZOFFSETTO:-0400
TZNAME:EDT
DTSTART:20260308T070000
END:DAYLIGHT
BEGIN:STANDARD
TZOFFSETFROM:-0400
TZOFFSETTO:-0500
TZNAME:EST
DTSTART:20261101T060000
END:STANDARD
END:VTIMEZONE
BEGIN:VEVENT
DTSTART;TZID=America/New_York:20251211T173000
DTEND;TZID=America/New_York:20251211T193000
DTSTAMP:20260423T151456
CREATED:20251204T012413Z
LAST-MODIFIED:20251204T012413Z
UID:11006-1765474200-1765481400@www.stpetedeltas.org
SUMMARY:Financial Literacy Workshop (December 2025)
DESCRIPTION:Keep the momentum going!\n \nOur second Financial Literacy Workshop runs September 16th – December 11th. \nLearn to invest\, plan for retirement\, and build generational wealth! \nDecember Session: \n“Investing Basics: Build Wealth for Tomorrow” \n\nLearn how to read the market\, grow retirement accounts\, and take the fear out of investing. \n\n**NOTE: This is a virtual ZOOM meeting**\n\nZoom link: https://us02web.zoom.us/j/89754789901?pwd=EA2ho0OO9i2AWu97oE21X70T8tot3g.1
URL:https://www.stpetedeltas.org/event/financial-literacy-workshop-december-2025/
LOCATION:ZOOM Virtual Meeting
CATEGORIES:featured,public
ATTACH;FMTTYPE=application/pdf:https://www.stpetedeltas.org/wp-content/uploads/2025/12/DEC-2025-Copy-PDF-w-Zoom-Link-1.pdf
END:VEVENT
END:VCALENDAR