BEGIN:VCALENDAR
VERSION:2.0
PRODID:-//St. Petersburg Alumnae Chapter of Delta Sigma Theta Sorority, Inc. - ECPv6.15.20//NONSGML v1.0//EN
CALSCALE:GREGORIAN
METHOD:PUBLISH
X-WR-CALNAME:St. Petersburg Alumnae Chapter of Delta Sigma Theta Sorority, Inc.
X-ORIGINAL-URL:https://www.stpetedeltas.org
X-WR-CALDESC:Events for St. Petersburg Alumnae Chapter of Delta Sigma Theta Sorority, Inc.
REFRESH-INTERVAL;VALUE=DURATION:PT1H
X-Robots-Tag:noindex
X-PUBLISHED-TTL:PT1H
BEGIN:VTIMEZONE
TZID:America/New_York
BEGIN:DAYLIGHT
TZOFFSETFROM:-0500
TZOFFSETTO:-0400
TZNAME:EDT
DTSTART:20230312T070000
END:DAYLIGHT
BEGIN:STANDARD
TZOFFSETFROM:-0400
TZOFFSETTO:-0500
TZNAME:EST
DTSTART:20231105T060000
END:STANDARD
BEGIN:DAYLIGHT
TZOFFSETFROM:-0500
TZOFFSETTO:-0400
TZNAME:EDT
DTSTART:20240310T070000
END:DAYLIGHT
BEGIN:STANDARD
TZOFFSETFROM:-0400
TZOFFSETTO:-0500
TZNAME:EST
DTSTART:20241103T060000
END:STANDARD
BEGIN:DAYLIGHT
TZOFFSETFROM:-0500
TZOFFSETTO:-0400
TZNAME:EDT
DTSTART:20250309T070000
END:DAYLIGHT
BEGIN:STANDARD
TZOFFSETFROM:-0400
TZOFFSETTO:-0500
TZNAME:EST
DTSTART:20251102T060000
END:STANDARD
END:VTIMEZONE
BEGIN:VEVENT
DTSTART;TZID=America/New_York:20240210T130000
DTEND;TZID=America/New_York:20240210T170000
DTSTAMP:20260425T000600
CREATED:20240115T052042Z
LAST-MODIFIED:20240115T053416Z
UID:10270-1707570000-1707584400@www.stpetedeltas.org
SUMMARY:Super Bold Saturday - Voter Registration Drive
DESCRIPTION:Super BOLD Saturday will be Saturday\, February 10th from 1:00 – 5:00pm. Please join us at Tropicana Field Lot #4 (198 17th St S\, St. Petersburg\, FL 33712).to hear the latest information for Florida voters and rally around new voters engaging in the democratic process for the first time. There will be food trucks\, vendors and entertainment.
URL:https://www.stpetedeltas.org/event/super-bold-saturday-voter-registration-drive/
LOCATION:Tropicana Field Lot #4\, 198 17th St S\, St. Petersburg\, FL\, 33712\, United States
CATEGORIES:featured,public
ATTACH;FMTTYPE=image/jpeg:https://www.stpetedeltas.org/wp-content/uploads/2024/01/Super-BOLD-Saturday-flyer.jpg
END:VEVENT
END:VCALENDAR