BEGIN:VCALENDAR
VERSION:2.0
PRODID:-//St. Petersburg Alumnae Chapter of Delta Sigma Theta Sorority, Inc. - ECPv6.15.20//NONSGML v1.0//EN
CALSCALE:GREGORIAN
METHOD:PUBLISH
X-ORIGINAL-URL:https://www.stpetedeltas.org
X-WR-CALDESC:Events for St. Petersburg Alumnae Chapter of Delta Sigma Theta Sorority, Inc.
REFRESH-INTERVAL;VALUE=DURATION:PT1H
X-Robots-Tag:noindex
X-PUBLISHED-TTL:PT1H
BEGIN:VTIMEZONE
TZID:America/New_York
BEGIN:DAYLIGHT
TZOFFSETFROM:-0500
TZOFFSETTO:-0400
TZNAME:EDT
DTSTART:20230312T070000
END:DAYLIGHT
BEGIN:STANDARD
TZOFFSETFROM:-0400
TZOFFSETTO:-0500
TZNAME:EST
DTSTART:20231105T060000
END:STANDARD
BEGIN:DAYLIGHT
TZOFFSETFROM:-0500
TZOFFSETTO:-0400
TZNAME:EDT
DTSTART:20240310T070000
END:DAYLIGHT
BEGIN:STANDARD
TZOFFSETFROM:-0400
TZOFFSETTO:-0500
TZNAME:EST
DTSTART:20241103T060000
END:STANDARD
BEGIN:DAYLIGHT
TZOFFSETFROM:-0500
TZOFFSETTO:-0400
TZNAME:EDT
DTSTART:20250309T070000
END:DAYLIGHT
BEGIN:STANDARD
TZOFFSETFROM:-0400
TZOFFSETTO:-0500
TZNAME:EST
DTSTART:20251102T060000
END:STANDARD
END:VTIMEZONE
BEGIN:VEVENT
DTSTART;TZID=America/New_York:20240516T180000
DTEND;TZID=America/New_York:20240516T193000
DTSTAMP:20260424T204041
CREATED:20240423T205108Z
LAST-MODIFIED:20240508T201622Z
UID:10400-1715882400-1715887800@www.stpetedeltas.org
SUMMARY:May Week: Road Map to Financial Success
DESCRIPTION:Join Us for a Road Map to Financial Success \nRetirement Benefit Information \nWills vs Trusts Probate \nPre-Funeral Arrangements Insurance \nFinancial Education
URL:https://www.stpetedeltas.org/event/road-map-to-financial-success/
LOCATION:Enoch Davis Center\, 1111 18th Avenue South\, St. Petersburg\, FL\, 33705
CATEGORIES:featured,public
ATTACH;FMTTYPE=image/jpeg:https://www.stpetedeltas.org/wp-content/uploads/2024/04/Delta-RMTFS-final-1.jpg
END:VEVENT
END:VCALENDAR