BEGIN:VCALENDAR
VERSION:2.0
PRODID:-//St. Petersburg Alumnae Chapter of Delta Sigma Theta Sorority, Inc. - ECPv6.15.20//NONSGML v1.0//EN
CALSCALE:GREGORIAN
METHOD:PUBLISH
X-ORIGINAL-URL:https://www.stpetedeltas.org
X-WR-CALDESC:Events for St. Petersburg Alumnae Chapter of Delta Sigma Theta Sorority, Inc.
REFRESH-INTERVAL;VALUE=DURATION:PT1H
X-Robots-Tag:noindex
X-PUBLISHED-TTL:PT1H
BEGIN:VTIMEZONE
TZID:America/New_York
BEGIN:DAYLIGHT
TZOFFSETFROM:-0500
TZOFFSETTO:-0400
TZNAME:EDT
DTSTART:20240310T070000
END:DAYLIGHT
BEGIN:STANDARD
TZOFFSETFROM:-0400
TZOFFSETTO:-0500
TZNAME:EST
DTSTART:20241103T060000
END:STANDARD
BEGIN:DAYLIGHT
TZOFFSETFROM:-0500
TZOFFSETTO:-0400
TZNAME:EDT
DTSTART:20250309T070000
END:DAYLIGHT
BEGIN:STANDARD
TZOFFSETFROM:-0400
TZOFFSETTO:-0500
TZNAME:EST
DTSTART:20251102T060000
END:STANDARD
BEGIN:DAYLIGHT
TZOFFSETFROM:-0500
TZOFFSETTO:-0400
TZNAME:EDT
DTSTART:20260308T070000
END:DAYLIGHT
BEGIN:STANDARD
TZOFFSETFROM:-0400
TZOFFSETTO:-0500
TZNAME:EST
DTSTART:20261101T060000
END:STANDARD
END:VTIMEZONE
BEGIN:VEVENT
DTSTART;TZID=America/New_York:20250916T053000
DTEND;TZID=America/New_York:20250916T193000
DTSTAMP:20260423T202050
CREATED:20250827T225416Z
LAST-MODIFIED:20250907T160452Z
UID:10872-1758000600-1758051000@www.stpetedeltas.org
SUMMARY:Financial Literacy Workshop
DESCRIPTION:Keep the momentum going!\n \nOur second Financial Literacy Workshop runs September 16th – December 11th. \nLearn to invest\, plan for retirement\, and build generational wealth! \n  \nRegistration required! Click “purchase” below.
URL:https://www.stpetedeltas.org/event/financial-literacy-workshop-3/
LOCATION:Enoch Davis Center\, 1111 18th Avenue South\, St. Petersburg\, FL\, 33705
CATEGORIES:featured,public
ATTACH;FMTTYPE=image/jpeg:https://www.stpetedeltas.org/wp-content/uploads/2025/08/3F11DA13-BC05-47A0-B9EB-04A7452DA14B.jpeg
END:VEVENT
END:VCALENDAR