BEGIN:VCALENDAR
VERSION:2.0
PRODID:-//St. Petersburg Alumnae Chapter of Delta Sigma Theta Sorority, Inc. - ECPv6.15.20//NONSGML v1.0//EN
CALSCALE:GREGORIAN
METHOD:PUBLISH
X-WR-CALNAME:St. Petersburg Alumnae Chapter of Delta Sigma Theta Sorority, Inc.
X-ORIGINAL-URL:https://www.stpetedeltas.org
X-WR-CALDESC:Events for St. Petersburg Alumnae Chapter of Delta Sigma Theta Sorority, Inc.
REFRESH-INTERVAL;VALUE=DURATION:PT1H
X-Robots-Tag:noindex
X-PUBLISHED-TTL:PT1H
BEGIN:VTIMEZONE
TZID:America/New_York
BEGIN:DAYLIGHT
TZOFFSETFROM:-0500
TZOFFSETTO:-0400
TZNAME:EDT
DTSTART:20240310T070000
END:DAYLIGHT
BEGIN:STANDARD
TZOFFSETFROM:-0400
TZOFFSETTO:-0500
TZNAME:EST
DTSTART:20241103T060000
END:STANDARD
BEGIN:DAYLIGHT
TZOFFSETFROM:-0500
TZOFFSETTO:-0400
TZNAME:EDT
DTSTART:20250309T070000
END:DAYLIGHT
BEGIN:STANDARD
TZOFFSETFROM:-0400
TZOFFSETTO:-0500
TZNAME:EST
DTSTART:20251102T060000
END:STANDARD
BEGIN:DAYLIGHT
TZOFFSETFROM:-0500
TZOFFSETTO:-0400
TZNAME:EDT
DTSTART:20260308T070000
END:DAYLIGHT
BEGIN:STANDARD
TZOFFSETFROM:-0400
TZOFFSETTO:-0500
TZNAME:EST
DTSTART:20261101T060000
END:STANDARD
END:VTIMEZONE
BEGIN:VEVENT
DTSTART;TZID=America/New_York:20251201T110000
DTEND;TZID=America/New_York:20251201T150000
DTSTAMP:20260423T164612
CREATED:20251114T000820Z
LAST-MODIFIED:20251114T000820Z
UID:10987-1764586800-1764601200@www.stpetedeltas.org
SUMMARY:World AIDS Day 2025
DESCRIPTION:❤️🌍 World AIDS Day is a global call for unity\, awareness\, and action! Join the St. Petersburg Alumnae Chapter as we\nstand in solidarity with those affected by HIV and recommit to ending the epidemic—together.\n\nHelp us empower our community with knowledge\, compassion\, and the tools to stop the spread and support global health.\n\n#WorldAIDSDay #StopTheStigma #DSTRethinkRebuildRise #CommunityHealth #GlobalSolidarity #KnowYourStatus
URL:https://www.stpetedeltas.org/event/world-aids-day-2025/
LOCATION:Williams Park\, 350 2nd Ave N\, Saint Petersburg\, FL\, 33701
CATEGORIES:featured,public
ATTACH;FMTTYPE=image/png:https://www.stpetedeltas.org/wp-content/uploads/2025/11/wad.png
END:VEVENT
END:VCALENDAR