BEGIN:VCALENDAR
VERSION:2.0
PRODID:-//St. Petersburg Alumnae Chapter of Delta Sigma Theta Sorority, Inc. - ECPv6.15.20//NONSGML v1.0//EN
CALSCALE:GREGORIAN
METHOD:PUBLISH
X-WR-CALNAME:St. Petersburg Alumnae Chapter of Delta Sigma Theta Sorority, Inc.
X-ORIGINAL-URL:https://www.stpetedeltas.org
X-WR-CALDESC:Events for St. Petersburg Alumnae Chapter of Delta Sigma Theta Sorority, Inc.
REFRESH-INTERVAL;VALUE=DURATION:PT1H
X-Robots-Tag:noindex
X-PUBLISHED-TTL:PT1H
BEGIN:VTIMEZONE
TZID:America/New_York
BEGIN:DAYLIGHT
TZOFFSETFROM:-0500
TZOFFSETTO:-0400
TZNAME:EDT
DTSTART:20250309T070000
END:DAYLIGHT
BEGIN:STANDARD
TZOFFSETFROM:-0400
TZOFFSETTO:-0500
TZNAME:EST
DTSTART:20251102T060000
END:STANDARD
BEGIN:DAYLIGHT
TZOFFSETFROM:-0500
TZOFFSETTO:-0400
TZNAME:EDT
DTSTART:20260308T070000
END:DAYLIGHT
BEGIN:STANDARD
TZOFFSETFROM:-0400
TZOFFSETTO:-0500
TZNAME:EST
DTSTART:20261101T060000
END:STANDARD
BEGIN:DAYLIGHT
TZOFFSETFROM:-0500
TZOFFSETTO:-0400
TZNAME:EDT
DTSTART:20270314T070000
END:DAYLIGHT
BEGIN:STANDARD
TZOFFSETFROM:-0400
TZOFFSETTO:-0500
TZNAME:EST
DTSTART:20271107T060000
END:STANDARD
END:VTIMEZONE
BEGIN:VEVENT
DTSTART;TZID=America/New_York:20260516T150000
DTEND;TZID=America/New_York:20260516T190000
DTSTAMP:20260423T202133
CREATED:20260424T001101Z
LAST-MODIFIED:20260424T001121Z
UID:11192-1778943600-1778958000@www.stpetedeltas.org
SUMMARY:May Week: "All Power To The People"
DESCRIPTION:WHEN THE STREETS SPOKE: CREATIVE VOICES OF THE CIVIL RIGHTS MOVEMENT \nA CONVERSATION WITH OUR PAST\, PRESENT\, AND FUTURE. \nATTIRE: AFROS\, DASHIKIS\, AFRICAN PRINTS\, LEATHER JACKETS\, MINI SKIRTS REFLECTING THE “BLACK IS BEAUTIFUL” MOVEMENT! \nJOIN US FOR THIS COMMUNITY-CENTERED EVENT THAT USES ART\, STORYTELLING\, READINGS\, MUSIC AND DIALOGUE TO HONOR THE LEGACY OF THE CIVIL RIGHTS MOVEMENT. \nTHIS IS A FREE EVENT!
URL:https://www.stpetedeltas.org/event/may-week-all-power-to-the-people/
LOCATION:ARK Innovation Center\, 1104 4th St S\, St. Petersburg\, FL\, 33701\, United States
CATEGORIES:featured,public
ATTACH;FMTTYPE=image/jpeg:https://www.stpetedeltas.org/wp-content/uploads/2026/04/IMG_20260415_074021.jpg
END:VEVENT
BEGIN:VEVENT
DTSTART;TZID=America/New_York:20260523T090000
DTEND;TZID=America/New_York:20260523T130000
DTSTAMP:20260423T202133
CREATED:20260315T202830Z
LAST-MODIFIED:20260423T223116Z
UID:11153-1779526800-1779541200@www.stpetedeltas.org
SUMMARY:Power UP Expo
DESCRIPTION:
URL:https://www.stpetedeltas.org/event/power-up/
LOCATION:Dueces Corner Park\, 9th Ave S & 22nd St S\, Saint Petersburg\, 33712
CATEGORIES:featured,public
ATTACH;FMTTYPE=image/png:https://www.stpetedeltas.org/wp-content/uploads/2026/03/image.png
END:VEVENT
END:VCALENDAR