BEGIN:VCALENDAR
VERSION:2.0
PRODID:-//St. Petersburg Alumnae Chapter of Delta Sigma Theta Sorority, Inc. - ECPv6.15.20//NONSGML v1.0//EN
CALSCALE:GREGORIAN
METHOD:PUBLISH
X-WR-CALNAME:St. Petersburg Alumnae Chapter of Delta Sigma Theta Sorority, Inc.
X-ORIGINAL-URL:https://www.stpetedeltas.org
X-WR-CALDESC:Events for St. Petersburg Alumnae Chapter of Delta Sigma Theta Sorority, Inc.
REFRESH-INTERVAL;VALUE=DURATION:PT1H
X-Robots-Tag:noindex
X-PUBLISHED-TTL:PT1H
BEGIN:VTIMEZONE
TZID:America/New_York
BEGIN:DAYLIGHT
TZOFFSETFROM:-0500
TZOFFSETTO:-0400
TZNAME:EDT
DTSTART:20230312T070000
END:DAYLIGHT
BEGIN:STANDARD
TZOFFSETFROM:-0400
TZOFFSETTO:-0500
TZNAME:EST
DTSTART:20231105T060000
END:STANDARD
BEGIN:DAYLIGHT
TZOFFSETFROM:-0500
TZOFFSETTO:-0400
TZNAME:EDT
DTSTART:20240310T070000
END:DAYLIGHT
BEGIN:STANDARD
TZOFFSETFROM:-0400
TZOFFSETTO:-0500
TZNAME:EST
DTSTART:20241103T060000
END:STANDARD
BEGIN:DAYLIGHT
TZOFFSETFROM:-0500
TZOFFSETTO:-0400
TZNAME:EDT
DTSTART:20250309T070000
END:DAYLIGHT
BEGIN:STANDARD
TZOFFSETFROM:-0400
TZOFFSETTO:-0500
TZNAME:EST
DTSTART:20251102T060000
END:STANDARD
BEGIN:DAYLIGHT
TZOFFSETFROM:-0500
TZOFFSETTO:-0400
TZNAME:EDT
DTSTART:20260308T070000
END:DAYLIGHT
BEGIN:STANDARD
TZOFFSETFROM:-0400
TZOFFSETTO:-0500
TZNAME:EST
DTSTART:20261101T060000
END:STANDARD
END:VTIMEZONE
BEGIN:VEVENT
DTSTART;TZID=America/New_York:20250318T173000
DTEND;TZID=America/New_York:20250318T193000
DTSTAMP:20260423T155022
CREATED:20250307T022335Z
LAST-MODIFIED:20250307T022335Z
UID:10798-1742319000-1742326200@www.stpetedeltas.org
SUMMARY:Pathways To Financial Freedom
DESCRIPTION:Financial literacy is the ability to understand and effectively use various financial skills including: personal financial management\, budgeting\, and investing. When you understand how to save\, invest\, and make wise financial choices your money can work for you\, potentially leading to increased assets and financial security.\n“Remember: Money\, like emotions\, is something you must control to keep your life on the right track.”\n– Natasha Munson\n\n\nJoin the St. Petersburg Alumnae Chapter on March 18th for a financial literacy workshop and add to your financial knowledge! \n\nPre-register at the “purchase” link below!
URL:https://www.stpetedeltas.org/event/pathways-to-financial-freedom-2/
LOCATION:Enoch Davis Center\, 1111 18th Avenue South\, St. Petersburg\, FL\, 33705
CATEGORIES:featured,public
ATTACH;FMTTYPE=image/jpeg:https://www.stpetedeltas.org/wp-content/uploads/2025/03/IMG_0299.jpeg
END:VEVENT
BEGIN:VEVENT
DTSTART;TZID=America/New_York:20250316T110000
DTEND;TZID=America/New_York:20250316T140000
DTSTAMP:20260423T155022
CREATED:20250306T050606Z
LAST-MODIFIED:20250306T050606Z
UID:10794-1742122800-1742133600@www.stpetedeltas.org
SUMMARY:Vaccination Clinic
DESCRIPTION:[vc_row][vc_column][vc_column_text css=””] \nPlease join the St. Petersburg Alumnae Chapter\, in conjunction with Good Health Wins\, for a vaccination clinic. \nCovid \nFlu \nShingles \nTetanus \nRSV \nPneumonia \nHepatits A+B \nWalk-Ins Welcome but Sign-Up Below to secure your spot! \n[/vc_column_text]Sign-Up[/vc_column][/vc_row]
URL:https://www.stpetedeltas.org/event/vaccination-clinic/
LOCATION:Friendship Missionary Baptist Church\, 3300 31st St S\, St. Petersburg\, FL\, 33712\, United States
CATEGORIES:featured,public
ATTACH;FMTTYPE=image/png:https://www.stpetedeltas.org/wp-content/uploads/2025/03/vax.png
END:VEVENT
BEGIN:VEVENT
DTSTART;TZID=America/New_York:20250308T160000
DTEND;TZID=America/New_York:20250308T200000
DTSTAMP:20260423T155022
CREATED:20250212T001447Z
LAST-MODIFIED:20250219T003139Z
UID:10766-1741449600-1741464000@www.stpetedeltas.org
SUMMARY:Harlem Renaissance: A Cultural Reflection
DESCRIPTION:This event will dive into the era’s vibrant essence with captivating book discussions\, soul-stirring spoken word performances\, and electrifying live music by The Wayne Levy Jazz Band featuring the mesmerizing saxophone artistry of Peters Neumer. Adding to the magic\, experience a special presentation by a world-renowned opera singer and celebrated music professor from John Jay College of Criminal Justice\, Gregory Sheppard\, who has earned accolades\nfor his profound teachings on Harlem Renaissance music and beyond. You will be able to explore an inspiring exhibit hall and discover unique vendors showcasing historical treasures and contemporary art\, all paying homage to this transformative and trailblazing era. It will be an extraordinary journey through literature\, music\, and the arts! \nWe expect a dynamic mix of community leaders\, educators\, artists\, and literature lovers\, all coming together to honor the legacy of this pivotal time in history. This event is more than just a celebration; it’s an opportunity to inspire and uplift\, especially for our youth programs and local community members who will benefit from this cultural experience. \n**Join us adorned in your ROARING TWENTIES attire!**
URL:https://www.stpetedeltas.org/event/harlem-renaissance-a-cultural-reflection/
LOCATION:Imagine Musuem\, 1901 Central Avenue\, St. Petersburg\, FL\, 33713\, United States
CATEGORIES:featured,public
ATTACH;FMTTYPE=image/jpeg:https://www.stpetedeltas.org/wp-content/uploads/2025/02/harlemrenmar8th-final-scaled.jpg
END:VEVENT
BEGIN:VEVENT
DTSTART;TZID=America/New_York:20250206T180000
DTEND;TZID=America/New_York:20250206T180000
DTSTAMP:20260423T155022
CREATED:20250126T021001Z
LAST-MODIFIED:20250126T024155Z
UID:10739-1738864800-1738864800@www.stpetedeltas.org
SUMMARY:Make it Stop - 4th Annual Human Trafficking Conversation
DESCRIPTION:Human Trafficking is the recruitment\, harboring\, transportation\, or obtaining of a person for labor or services through use of force\, fraud or coercion for the purpose of involuntary servitude\, debt bondage\, or slavery. Join the St. Petersburg Alumnae Chapter of Delta Sigma Theta\, SPPD Human Traffic Task Force and Bethel Metropolitan Baptist Church to learn about the signs of human trafficking victims. Remember\, victims can be found in many places. The National Human Trafficking Hotline: 1-888-373-7888.
URL:https://www.stpetedeltas.org/event/make-it-stop/
LOCATION:Bethel Metropolitan Baptist Church\, 3455 26th Avenue South\, St. Petersburg\, FL\, 33711\, United States
CATEGORIES:featured,public
ATTACH;FMTTYPE=image/png:https://www.stpetedeltas.org/wp-content/uploads/2025/01/Make-it-Stop-Flyer.png
END:VEVENT
BEGIN:VEVENT
DTSTART;TZID=America/New_York:20250206T173000
DTEND;TZID=America/New_York:20250206T193000
DTSTAMP:20260423T155022
CREATED:20250201T025211Z
LAST-MODIFIED:20250201T030523Z
UID:10748-1738863000-1738870200@www.stpetedeltas.org
SUMMARY:Pathways To Financial Freedom
DESCRIPTION:Financial literacy is the ability to understand and effectively use various financial skills including: personal financial management\, budgeting\, and investing. When you understand how to save\, invest\, and make wise financial choices your money can work for you\, potentially leading to increased assets and financial security.\n“Remember: Money\, like emotions\, is something you must control to keep your life on the right track.”\n– Natasha Munson\n\n\nJoin the St. Petersburg Alumnae Chapter on February 6th for a financial workshop and add to your financial knowledge! \n\nPre-register at the “purchase” link below!
URL:https://www.stpetedeltas.org/event/pathways-to-financial-freedom/
LOCATION:Enoch Davis Center\, 1111 18th Avenue South\, St. Petersburg\, FL\, 33705
CATEGORIES:featured,public
ATTACH;FMTTYPE=image/jpeg:https://www.stpetedeltas.org/wp-content/uploads/2025/01/Pathways-to-Financial-Freedom-Flyer.jpg
END:VEVENT
BEGIN:VEVENT
DTSTART;TZID=America/New_York:20241207T160000
DTEND;TZID=America/New_York:20241207T190000
DTSTAMP:20260423T155022
CREATED:20241106T213330Z
LAST-MODIFIED:20241123T011009Z
UID:10627-1733587200-1733598000@www.stpetedeltas.org
SUMMARY:SPAC Christmas Social (Sorors Only)
DESCRIPTION:“Tis The Season\, The Deltas In The Garden” is the chapter’s Annual Christmas Celebration! Let’s come together to celebrate the Holiday Season with a joyful and festive event where there will be food\, music\, and lots of dancing…all in the garden of a Christmas Wonderland ambience! \n**This event is for ladies of Delta Sigma Theta Sorority\, Inc ONLY! \n \n\nBuy Tickets on Eventbrite\n\nBuy Tickets
URL:https://www.stpetedeltas.org/event/spac-christmas-social/
LOCATION:Dr. Carter G. Woodson African American Museum\, 2240 9th Ave S.\, St. Petersburg\, FL\, 33712
CATEGORIES:featured,public
ATTACH;FMTTYPE=image/jpeg:https://www.stpetedeltas.org/wp-content/uploads/2024/11/IMG_0421.jpeg
END:VEVENT
BEGIN:VEVENT
DTSTART;TZID=America/New_York:20241207T080000
DTEND;TZID=America/New_York:20241207T110000
DTSTAMP:20260423T155022
CREATED:20241106T204209Z
LAST-MODIFIED:20241123T010738Z
UID:10619-1733558400-1733569200@www.stpetedeltas.org
SUMMARY:Breakfast With Santa
DESCRIPTION:Put on your Holiday pajamas\, bring your appetite and your Holiday smile to our 2024 Annual Breakfast with Santa. \nSanta will be making a special appearance from 8:30AM to 10:30AM to spread holiday cheer.\n**Don’t forget your cameras/cell phone for the perfect photo opportunity with Santa. \nIndulge in a delightful Holiday breakfast that satisfies even the pickiest little elves! From freshly made waffles\, crispy bacon\, sausage\, and fruit platters- we’ve got a wonderful breakfast and a special holiday gift for all children! \n\n Buy Tickets on Eventbrite  Buy Tickets
URL:https://www.stpetedeltas.org/event/breakfast-with-santa/
LOCATION:Pinellas Technical College\, 901 34th St\, St. Petersburg\, FL\, 33711
CATEGORIES:featured,public
ATTACH;FMTTYPE=image/jpeg:https://www.stpetedeltas.org/wp-content/uploads/2024/11/IMG_0422.jpeg
END:VEVENT
BEGIN:VEVENT
DTSTART;TZID=America/New_York:20241114T180000
DTEND;TZID=America/New_York:20241114T193000
DTSTAMP:20260423T155022
CREATED:20241105T212114Z
LAST-MODIFIED:20241106T205542Z
UID:10612-1731607200-1731612600@www.stpetedeltas.org
SUMMARY:Financial Literacy Workshop
DESCRIPTION:Financial literacy is the ability to understand and effectively use various financial skills including: personal financial management\, budgeting\, and investing. When you understand how to save\, invest\, and make wise financial choices your money can work for you\, potentially leading to increased assets and financial security.\n“Remember: Money\, like emotions\, is something you must control to keep your life on the right track.”\n– Natasha Munson\n\n\nJoin the St. Petersburg Alumnae Chapter on November 14th for a financial workshop and add to your financial knowledge! \n\nPre-register here: https://spackgrf.org/dst-event-registration/
URL:https://www.stpetedeltas.org/event/financial-literacy-workshop/
LOCATION:Enoch Davis Center\, 1111 18th Avenue South\, St. Petersburg\, FL\, 33705
CATEGORIES:featured
ATTACH;FMTTYPE=image/jpeg:https://www.stpetedeltas.org/wp-content/uploads/2024/11/PTFinanci.jpeg
END:VEVENT
BEGIN:VEVENT
DTSTART;TZID=America/New_York:20241105T190000
DTEND;TZID=America/New_York:20241105T213000
DTSTAMP:20260423T155022
CREATED:20241103T071626Z
LAST-MODIFIED:20241103T153221Z
UID:10596-1730833200-1730842200@www.stpetedeltas.org
SUMMARY:2024 Election Watch Party
DESCRIPTION:  \nCome and join us watch history be made at the Woodson African American Museum of Florida on Tuesday\, November 5th for an Election Night Watch Party!
URL:https://www.stpetedeltas.org/event/2024-election-watch-party/
LOCATION:Dr. Carter G. Woodson African American Museum\, 2240 9th Ave S.\, St. Petersburg\, FL\, 33712
CATEGORIES:featured
ATTACH;FMTTYPE=image/jpeg:https://www.stpetedeltas.org/wp-content/uploads/2024/11/wp.jpg
END:VEVENT
BEGIN:VEVENT
DTSTART;TZID=America/New_York:20241103T130000
DTEND;TZID=America/New_York:20241103T180000
DTSTAMP:20260423T155022
CREATED:20241102T050106Z
LAST-MODIFIED:20241103T153316Z
UID:10580-1730638800-1730656800@www.stpetedeltas.org
SUMMARY:Souls to the Polls
DESCRIPTION:  \nMeet the St. Petersburg Alumnae Chapter at Souls to the Polls to cast your vote\, enjoy food\, games\, and live music on Sunday\, November 3rd! Let’s vote together and show what POWER looks like.
URL:https://www.stpetedeltas.org/event/souls-to-the-polls/
LOCATION:Williams Park\, 350 2nd Ave N\, Saint Petersburg\, FL\, 33701
CATEGORIES:featured
ATTACH;FMTTYPE=image/jpeg:https://www.stpetedeltas.org/wp-content/uploads/2024/11/s2p.jpg
END:VEVENT
BEGIN:VEVENT
DTSTART;TZID=America/New_York:20241027T190000
DTEND;TZID=America/New_York:20241110T235900
DTSTAMP:20260423T155022
CREATED:20241103T155006Z
LAST-MODIFIED:20241103T155811Z
UID:10606-1730055600-1731283140@www.stpetedeltas.org
SUMMARY:Deezy Decks Fundraiser
DESCRIPTION:Support scholarships and impactful community programs with the St. Petersburg Alumnae Chapter of Delta Sigma Theta Sorority\, Inc.! \nPurchase your own exclusive 24k playing card deck\, showcasing themes that matter—HBCUs\, Divine 9\, Breast Cancer Awareness\, Autism Awareness\, Black Lives Matter\, and more. Each deck is crafted to celebrate and inspire while fueling futures. Don’t miss your chance to collect these iconic cards and make a difference!
URL:https://www.stpetedeltas.org/event/deezy-decks-fundraiser/
LOCATION:FL
CATEGORIES:featured
ATTACH;FMTTYPE=image/jpeg:https://www.stpetedeltas.org/wp-content/uploads/2024/11/IMG_0416.jpeg
END:VEVENT
BEGIN:VEVENT
DTSTART;TZID=America/New_York:20241012T200000
DTEND;TZID=America/New_York:20241012T235900
DTSTAMP:20260423T155022
CREATED:20240902T221934Z
LAST-MODIFIED:20240924T221645Z
UID:10543-1728763200-1728777540@www.stpetedeltas.org
SUMMARY:School Daze
DESCRIPTION:NEW DATE! \nThe St. Petersburg Alumnae Chapter of Delta Sigma Theta Sorority\, Inc. invites you to our School Daze party. Show off your school pride and represent your college or high school. Come dressed in your school colors or gear and celebrate with us. It’s time to bring the ultimate school spirit. \n\n\nBuy Tickets on Eventbrite\n\nBuy Tickets
URL:https://www.stpetedeltas.org/event/school-daze-party-24/
LOCATION:Florida National Guard\, 3601 38th Avenue South\, St. Petersburg\, FL\, 33711\, United States
CATEGORIES:featured,public
ATTACH;FMTTYPE=image/jpeg:https://www.stpetedeltas.org/wp-content/uploads/2024/09/IMG_20240906_193416.jpg
END:VEVENT
BEGIN:VEVENT
DTSTART;TZID=America/New_York:20240609T110000
DTEND;TZID=America/New_York:20240609T140000
DTSTAMP:20260423T155022
CREATED:20240607T013450Z
LAST-MODIFIED:20240607T013548Z
UID:10484-1717930800-1717941600@www.stpetedeltas.org
SUMMARY:Vaccination Clinic
DESCRIPTION:[vc_row][vc_column][vc_column_text] \nPlease join the St. Petersburg Alumnae Chapter\, in conjunction with Good Health Wins\, for a vaccination clinic. \nCovid \nFlu \nShingles \nTetanus \nRSV \nPnemonia \nHepatits A+B \nWalk-In Welcome but Sign-Up Below to secure your spot! \n[/vc_column_text]Sign-Up[/vc_column][/vc_row]
URL:https://www.stpetedeltas.org/event/vaccination-clinic-jun-24/
LOCATION:Friendship Missionary Baptist Church\, 3300 31st St S\, St. Petersburg\, FL\, 33712\, United States
CATEGORIES:featured,public
ATTACH;FMTTYPE=image/jpeg:https://www.stpetedeltas.org/wp-content/uploads/2024/06/vaccination-jun-24.jpg
END:VEVENT
BEGIN:VEVENT
DTSTART;TZID=America/New_York:20240518T090000
DTEND;TZID=America/New_York:20240518T130000
DTSTAMP:20260423T155022
CREATED:20240508T200538Z
LAST-MODIFIED:20240508T201651Z
UID:10449-1716022800-1716037200@www.stpetedeltas.org
SUMMARY:May Week: PowerUp!
DESCRIPTION:The St. Petersburg Alumnae Chapter of Delta Sigma Theta Sorority\, Inc. will be hosting our annual Power Up Health & Wellness Expo. This event will be held on Saturday\, May 18\, 2024\, from 9 am-1 pm. The expo will include a vendor fair\, interactive health information sessions\, exercise demonstrations and classes\, health screenings\, and raffle drawings. \nVendor & Sponsorship opportunities available. Click “Register” button.
URL:https://www.stpetedeltas.org/event/powerup-2024/
LOCATION:Pinellas Community Church\, 5501 31st Street South\, St. Petersburg\, FL\, 33712
CATEGORIES:featured,public
ATTACH;FMTTYPE=image/jpeg:https://www.stpetedeltas.org/wp-content/uploads/2024/05/Power-Up-2024.jpg
END:VEVENT
BEGIN:VEVENT
DTSTART;TZID=America/New_York:20240517T190000
DTEND;TZID=America/New_York:20240517T203000
DTSTAMP:20260423T155022
CREATED:20240423T214328Z
LAST-MODIFIED:20240508T201631Z
UID:10436-1715972400-1715977800@www.stpetedeltas.org
SUMMARY:May Week: The Artist Spotlight & Book Review
DESCRIPTION:Welcome to The Artist Spotlight & Book Review event! Join us online on Friday\, May 17\, 2024\, at 7:00 PM EDT for a night to celebrate Ruth P. Watson\, author of A Right Worthy Woman. Whether you’re an art enthusiast or a bookworm\, this event has something for everyone. Don’t miss out on this exciting virtual experience! \n\nRegister
URL:https://www.stpetedeltas.org/event/the-artist-spotlight-book-review-24/
LOCATION:ZOOM Virtual Meeting
CATEGORIES:featured,public
ATTACH;FMTTYPE=image/jpeg:https://www.stpetedeltas.org/wp-content/uploads/2024/04/Artist-Spotlight-2024-scaled.jpg
END:VEVENT
BEGIN:VEVENT
DTSTART;TZID=America/New_York:20240516T180000
DTEND;TZID=America/New_York:20240516T193000
DTSTAMP:20260423T155022
CREATED:20240423T205108Z
LAST-MODIFIED:20240508T201622Z
UID:10400-1715882400-1715887800@www.stpetedeltas.org
SUMMARY:May Week: Road Map to Financial Success
DESCRIPTION:Join Us for a Road Map to Financial Success \nRetirement Benefit Information \nWills vs Trusts Probate \nPre-Funeral Arrangements Insurance \nFinancial Education
URL:https://www.stpetedeltas.org/event/road-map-to-financial-success/
LOCATION:Enoch Davis Center\, 1111 18th Avenue South\, St. Petersburg\, FL\, 33705
CATEGORIES:featured,public
ATTACH;FMTTYPE=image/jpeg:https://www.stpetedeltas.org/wp-content/uploads/2024/04/Delta-RMTFS-final-1.jpg
END:VEVENT
BEGIN:VEVENT
DTSTART;TZID=America/New_York:20240515T183000
DTEND;TZID=America/New_York:20240515T203000
DTSTAMP:20260423T155022
CREATED:20240508T201933Z
LAST-MODIFIED:20240508T201933Z
UID:10467-1715797800-1715805000@www.stpetedeltas.org
SUMMARY:May Week: Youth Engagement Seminar
DESCRIPTION:MAY WEEK 2024
URL:https://www.stpetedeltas.org/event/may-week-youth-engagement-seminar/
LOCATION:Mt. Zion Progressive Youth Chapel\, 921 20th St South\, St. Petersburg\, Florida\, 33712
CATEGORIES:featured,public
ATTACH;FMTTYPE=image/png:https://www.stpetedeltas.org/wp-content/uploads/2024/05/SPAC-DST-May-Week-Flyer-.png
END:VEVENT
BEGIN:VEVENT
DTSTART;VALUE=DATE:20240514
DTEND;VALUE=DATE:20240515
DTSTAMP:20260423T155022
CREATED:20240508T201604Z
LAST-MODIFIED:20240508T201604Z
UID:10460-1715644800-1715731199@www.stpetedeltas.org
SUMMARY:May Week: Support Black Business
DESCRIPTION:MAY WEEK 2024\nSupporters are asked to purchase an item from a black business\, \neat a black-owned restaurant\, and post to social media. \nUse #SPACMAYWEEK24
URL:https://www.stpetedeltas.org/event/may-week-24-support-black-business/
LOCATION:FL
CATEGORIES:featured,public
ATTACH;FMTTYPE=image/png:https://www.stpetedeltas.org/wp-content/uploads/2024/05/SPAC-DST-May-Week-Flyer-.png
END:VEVENT
BEGIN:VEVENT
DTSTART;TZID=America/New_York:20240513T183000
DTEND;TZID=America/New_York:20240513T203000
DTSTAMP:20260423T155022
CREATED:20240508T201248Z
LAST-MODIFIED:20240508T201613Z
UID:10458-1715625000-1715632200@www.stpetedeltas.org
SUMMARY:May Week: Grow with Google: Protect Yourself from Scams!
DESCRIPTION:MAY WEEK 2024\nZoom Meeting ID: 859 0179 1976 \nPasscode: 524611
URL:https://www.stpetedeltas.org/event/gwg-may-24/
LOCATION:ZOOM Virtual Meeting
CATEGORIES:featured,public
ATTACH;FMTTYPE=image/png:https://www.stpetedeltas.org/wp-content/uploads/2024/05/SPAC-DST-May-Week-Flyer-.png
END:VEVENT
BEGIN:VEVENT
DTSTART;TZID=America/New_York:20240217T070000
DTEND;TZID=America/New_York:20240217T120000
DTSTAMP:20260423T155022
CREATED:20240210T152513Z
LAST-MODIFIED:20240210T152516Z
UID:10370-1708153200-1708171200@www.stpetedeltas.org
SUMMARY:Get Fit Mt Zion
DESCRIPTION:Activities & Sessions  \n7am – Cycling – meet in the parking lot.  \n8am – Christian Yoga – 3rd fl  \n9am – Nutrition Class/Holistic Wellness – 2nd fl  \n10am – Zumba w/ the Deltas focus – 3rd fl  \n11am – Kickball with Women of Zeal! – Lot G 
URL:https://www.stpetedeltas.org/event/get-fit-mt-zion/
LOCATION:Mt. Zion Progressive Missionary Baptist Church\, 955 20th St S\, St. Petersburg\, FL\, 33712\, United States
CATEGORIES:featured,public
ATTACH;FMTTYPE=image/png:https://www.stpetedeltas.org/wp-content/uploads/2024/02/MZPMBC-SPAC-Get-Fit-Flyer-1-PNG-file.png
END:VEVENT
BEGIN:VEVENT
DTSTART;TZID=America/New_York:20240210T130000
DTEND;TZID=America/New_York:20240210T170000
DTSTAMP:20260423T155022
CREATED:20240115T052042Z
LAST-MODIFIED:20240115T053416Z
UID:10270-1707570000-1707584400@www.stpetedeltas.org
SUMMARY:Super Bold Saturday - Voter Registration Drive
DESCRIPTION:Super BOLD Saturday will be Saturday\, February 10th from 1:00 – 5:00pm. Please join us at Tropicana Field Lot #4 (198 17th St S\, St. Petersburg\, FL 33712).to hear the latest information for Florida voters and rally around new voters engaging in the democratic process for the first time. There will be food trucks\, vendors and entertainment.
URL:https://www.stpetedeltas.org/event/super-bold-saturday-voter-registration-drive/
LOCATION:Tropicana Field Lot #4\, 198 17th St S\, St. Petersburg\, FL\, 33712\, United States
CATEGORIES:featured,public
ATTACH;FMTTYPE=image/jpeg:https://www.stpetedeltas.org/wp-content/uploads/2024/01/Super-BOLD-Saturday-flyer.jpg
END:VEVENT
BEGIN:VEVENT
DTSTART;TZID=America/New_York:20240204T110000
DTEND;TZID=America/New_York:20240204T140000
DTSTAMP:20260423T155022
CREATED:20240115T053147Z
LAST-MODIFIED:20240115T222507Z
UID:10277-1707044400-1707055200@www.stpetedeltas.org
SUMMARY:Vaccination Clinic
DESCRIPTION:[vc_row][vc_column][vc_column_text] \nPlease join the St. Petersburg Alumnae Chapter\, in conjunction with Aetna and Good Health Wins\, for a vaccination clinic. \nCovid \nFlu \nShingles \nTetanus \nRSV \nPnemonia \nHepatits A+B \nWalk-In Welcome but Sign-Up Below to secure your spot! \n[/vc_column_text]Sign-Up[/vc_column][/vc_row]
URL:https://www.stpetedeltas.org/event/vaccination-clinic-feb-24/
LOCATION:Friendship Missionary Baptist Church\, 3300 31st St S\, St. Petersburg\, FL\, 33712\, United States
CATEGORIES:featured,public
ATTACH;FMTTYPE=image/png:https://www.stpetedeltas.org/wp-content/uploads/2024/01/Vaccination-Clinic-Feb-24.png
END:VEVENT
BEGIN:VEVENT
DTSTART;TZID=America/New_York:20240201T180000
DTEND;TZID=America/New_York:20240201T200000
DTSTAMP:20260423T155022
CREATED:20240123T113618Z
LAST-MODIFIED:20240123T113741Z
UID:10358-1706810400-1706817600@www.stpetedeltas.org
SUMMARY:Stop Human Trafficking
DESCRIPTION:The St. Petersburg Alumnae Chapter in collaboration with Bethel’s Christian Education Ministry and the St. Petersburg Metropolitan Section of NCNW is sponsoring a “Human Trafficking” Community presentation. \nKNOW THE FACTS: Traffickers use force\, fraud\, or coercion to control victims. It affects individuals of every age\, ethnicity\, gender and socio-economic background.
URL:https://www.stpetedeltas.org/event/stop-human-trafficking/
LOCATION:Bethel Metropolitan Baptist Church\, 3455 26th Avenue South\, St. Petersburg\, FL\, 33711\, United States
CATEGORIES:featured,public
ATTACH;FMTTYPE=image/jpeg:https://www.stpetedeltas.org/wp-content/uploads/2024/01/stop-human-trafficking.jpg
END:VEVENT
BEGIN:VEVENT
DTSTART;TZID=America/New_York:20240118T190000
DTEND;TZID=America/New_York:20240118T203000
DTSTAMP:20260423T155022
CREATED:20240115T050035Z
LAST-MODIFIED:20240117T222306Z
UID:10250-1705604400-1705609800@www.stpetedeltas.org
SUMMARY:Beautillion Militaire Information Session
DESCRIPTION:[vc_row][vc_column][vc_column_text]Calling all high school junior and seniors males! \nThe St. Petersburg Alumnae chapter is excited to announce the Beautillion Militaire. We are recruiting high school juniors and senior males. Join us via Zoom for more information. For any questions\, please email beautillion@stpetedeltas.org[/vc_column_text]Register[/vc_column][/vc_row]
URL:https://www.stpetedeltas.org/event/beautillion-info-session-24/
LOCATION:ZOOM Virtual Meeting
CATEGORIES:beautillion,featured,public
ATTACH;FMTTYPE=image/png:https://www.stpetedeltas.org/wp-content/uploads/2024/01/2024-Beautillion_Info-Session-Flyer.png
END:VEVENT
END:VCALENDAR