BEGIN:VCALENDAR
VERSION:2.0
PRODID:-//St. Petersburg Alumnae Chapter of Delta Sigma Theta Sorority, Inc. - ECPv6.15.20//NONSGML v1.0//EN
CALSCALE:GREGORIAN
METHOD:PUBLISH
X-ORIGINAL-URL:https://www.stpetedeltas.org
X-WR-CALDESC:Events for St. Petersburg Alumnae Chapter of Delta Sigma Theta Sorority, Inc.
REFRESH-INTERVAL;VALUE=DURATION:PT1H
X-Robots-Tag:noindex
X-PUBLISHED-TTL:PT1H
BEGIN:VTIMEZONE
TZID:America/New_York
BEGIN:DAYLIGHT
TZOFFSETFROM:-0500
TZOFFSETTO:-0400
TZNAME:EDT
DTSTART:20240310T070000
END:DAYLIGHT
BEGIN:STANDARD
TZOFFSETFROM:-0400
TZOFFSETTO:-0500
TZNAME:EST
DTSTART:20241103T060000
END:STANDARD
BEGIN:DAYLIGHT
TZOFFSETFROM:-0500
TZOFFSETTO:-0400
TZNAME:EDT
DTSTART:20250309T070000
END:DAYLIGHT
BEGIN:STANDARD
TZOFFSETFROM:-0400
TZOFFSETTO:-0500
TZNAME:EST
DTSTART:20251102T060000
END:STANDARD
BEGIN:DAYLIGHT
TZOFFSETFROM:-0500
TZOFFSETTO:-0400
TZNAME:EDT
DTSTART:20260308T070000
END:DAYLIGHT
BEGIN:STANDARD
TZOFFSETFROM:-0400
TZOFFSETTO:-0500
TZNAME:EST
DTSTART:20261101T060000
END:STANDARD
END:VTIMEZONE
BEGIN:VEVENT
DTSTART;TZID=America/New_York:20251118T053000
DTEND;TZID=America/New_York:20251118T193000
DTSTAMP:20260423T170342
CREATED:20251105T222318Z
LAST-MODIFIED:20251114T000913Z
UID:10963-1763443800-1763494200@www.stpetedeltas.org
SUMMARY:Financial Literacy Workshop (November 2025)
DESCRIPTION:Keep the momentum going!\n \nOur second Financial Literacy Workshop runs September 16th – December 11th. \nLearn to invest\, plan for retirement\, and build generational wealth! \nNovember Session: \n“Protect What Matters:  Your Guide to Wills\, Trusts & Financial Security” \nRegistration required! Click “purchase” below.
URL:https://www.stpetedeltas.org/event/financial-literacy-workshop-11-25/
LOCATION:Enoch Davis Center\, 1111 18th Avenue South\, St. Petersburg\, FL\, 33705
CATEGORIES:featured,public
ATTACH;FMTTYPE=image/jpeg:https://www.stpetedeltas.org/wp-content/uploads/2025/11/NOV-2025-4-scaled.jpg
END:VEVENT
BEGIN:VEVENT
DTSTART;TZID=America/New_York:20251120T183000
DTEND;TZID=America/New_York:20251120T203000
DTSTAMP:20260423T170342
CREATED:20251114T001616Z
LAST-MODIFIED:20251114T001616Z
UID:10990-1763663400-1763670600@www.stpetedeltas.org
SUMMARY:Executive Board Meeting
DESCRIPTION:
URL:https://www.stpetedeltas.org/event/executive-board-meeting/
LOCATION:ZOOM Virtual Meeting
CATEGORIES:featured,public
ATTACH;FMTTYPE=image/png:https://www.stpetedeltas.org/wp-content/uploads/2025/11/2.png
END:VEVENT
END:VCALENDAR