BEGIN:VCALENDAR
VERSION:2.0
PRODID:-//St. Petersburg Alumnae Chapter of Delta Sigma Theta Sorority, Inc. - ECPv6.15.20//NONSGML v1.0//EN
CALSCALE:GREGORIAN
METHOD:PUBLISH
X-WR-CALNAME:St. Petersburg Alumnae Chapter of Delta Sigma Theta Sorority, Inc.
X-ORIGINAL-URL:https://www.stpetedeltas.org
X-WR-CALDESC:Events for St. Petersburg Alumnae Chapter of Delta Sigma Theta Sorority, Inc.
REFRESH-INTERVAL;VALUE=DURATION:PT1H
X-Robots-Tag:noindex
X-PUBLISHED-TTL:PT1H
BEGIN:VTIMEZONE
TZID:America/New_York
BEGIN:DAYLIGHT
TZOFFSETFROM:-0500
TZOFFSETTO:-0400
TZNAME:EDT
DTSTART:20200308T070000
END:DAYLIGHT
BEGIN:STANDARD
TZOFFSETFROM:-0400
TZOFFSETTO:-0500
TZNAME:EST
DTSTART:20201101T060000
END:STANDARD
BEGIN:DAYLIGHT
TZOFFSETFROM:-0500
TZOFFSETTO:-0400
TZNAME:EDT
DTSTART:20210314T070000
END:DAYLIGHT
BEGIN:STANDARD
TZOFFSETFROM:-0400
TZOFFSETTO:-0500
TZNAME:EST
DTSTART:20211107T060000
END:STANDARD
BEGIN:DAYLIGHT
TZOFFSETFROM:-0500
TZOFFSETTO:-0400
TZNAME:EDT
DTSTART:20220313T070000
END:DAYLIGHT
BEGIN:STANDARD
TZOFFSETFROM:-0400
TZOFFSETTO:-0500
TZNAME:EST
DTSTART:20221106T060000
END:STANDARD
BEGIN:DAYLIGHT
TZOFFSETFROM:-0500
TZOFFSETTO:-0400
TZNAME:EDT
DTSTART:20230312T070000
END:DAYLIGHT
BEGIN:STANDARD
TZOFFSETFROM:-0400
TZOFFSETTO:-0500
TZNAME:EST
DTSTART:20231105T060000
END:STANDARD
END:VTIMEZONE
BEGIN:VEVENT
DTSTART;TZID=America/New_York:20220112T183000
DTEND;TZID=America/New_York:20220112T213000
DTSTAMP:20260424T042915
CREATED:20211218T192709Z
LAST-MODIFIED:20211221T141028Z
UID:2635-1642012200-1642023000@www.stpetedeltas.org
SUMMARY:Pre-Founders Day Celebration **DELTAS ONLY**
DESCRIPTION:Sorry but this content is reserved for logged in SPACDST members.  Members\, please log in below. \n        \n            \n				Username or Email Address\n				\n			 \n				Password\n				\n			 Lost Password? Remember Me
URL:https://www.stpetedeltas.org/event/pre-founders-day-celebration/
LOCATION:Duke Energy Center for the Arts – Mahaffey Theater\, 400 1st St S\, St. Petersburg\, FL\, 33701\, United States
CATEGORIES:public
ATTACH;FMTTYPE=image/jpeg:https://www.stpetedeltas.org/wp-content/uploads/2021/12/22-founders-day-flyer-scaled.jpg
END:VEVENT
BEGIN:VEVENT
DTSTART;TZID=America/New_York:20220108T100000
DTEND;TZID=America/New_York:20220108T123000
DTSTAMP:20260424T042915
CREATED:20211220T024102Z
LAST-MODIFIED:20211220T024102Z
UID:2654-1641636000-1641645000@www.stpetedeltas.org
SUMMARY:Monthly Chapter Meeting
DESCRIPTION:Sorry but this content is reserved for logged in SPACDST members.  Members\, please log in below. \n        \n            \n				Username or Email Address\n				\n			 \n				Password\n				\n			 Lost Password? Remember Me
URL:https://www.stpetedeltas.org/event/chapter-meeting-jan-22/
LOCATION:ZOOM Virtual Meeting
CATEGORIES:public
ATTACH;FMTTYPE=image/jpeg:https://www.stpetedeltas.org/wp-content/uploads/2020/05/black-history-2020.jpg
END:VEVENT
BEGIN:VEVENT
DTSTART;TZID=America/New_York:20211220T183000
DTEND;TZID=America/New_York:20211220T203000
DTSTAMP:20260424T042915
CREATED:20211210T160215Z
LAST-MODIFIED:20211220T024007Z
UID:2618-1640025000-1640032200@www.stpetedeltas.org
SUMMARY:Monthly Executive Board Meeting
DESCRIPTION:Sorry but this content is reserved for logged in SPACDST members.  Members\, please log in below. \n        \n            \n				Username or Email Address\n				\n			 \n				Password\n				\n			 Lost Password? Remember Me
URL:https://www.stpetedeltas.org/event/executive-board-meeting-dec-21/
LOCATION:ZOOM Virtual Meeting
CATEGORIES:public
ATTACH;FMTTYPE=image/png:https://www.stpetedeltas.org/wp-content/uploads/2020/05/SPAC_Slider_Empowerment.png
END:VEVENT
BEGIN:VEVENT
DTSTART;TZID=America/New_York:20211211T100000
DTEND;TZID=America/New_York:20211211T123000
DTSTAMP:20260424T042915
CREATED:20211210T155956Z
LAST-MODIFIED:20211210T160306Z
UID:2616-1639216800-1639225800@www.stpetedeltas.org
SUMMARY:Monthly Chapter Meeting
DESCRIPTION:Sorry but this content is reserved for logged in SPACDST members.  Members\, please log in below. \n        \n            \n				Username or Email Address\n				\n			 \n				Password\n				\n			 Lost Password? Remember Me
URL:https://www.stpetedeltas.org/event/chapter-meeting-dec-21/
CATEGORIES:public
ATTACH;FMTTYPE=image/jpeg:https://www.stpetedeltas.org/wp-content/uploads/2020/05/black-history-2020.jpg
END:VEVENT
BEGIN:VEVENT
DTSTART;TZID=America/New_York:20211204T110000
DTEND;TZID=America/New_York:20211204T140000
DTSTAMP:20260424T042915
CREATED:20211120T010304Z
LAST-MODIFIED:20211127T151327Z
UID:2489-1638615600-1638626400@www.stpetedeltas.org
SUMMARY:Casino Royale: Vegas Style Christmas **DELTAS ONLY***
DESCRIPTION:Sorry but this content is reserved for logged in SPACDST members.  Members\, please log in below. \n        \n            \n				Username or Email Address\n				\n			 \n				Password\n				\n			 Lost Password? Remember Me
URL:https://www.stpetedeltas.org/event/christmas-social-2021/
LOCATION:Historic Manhattan Casino\, 642 22nd Street South\, St. Petersburg\, FL
CATEGORIES:public
ATTACH;FMTTYPE=image/jpeg:https://www.stpetedeltas.org/wp-content/uploads/2021/11/Christmas-Social-Flyer-Crop.jpg
END:VEVENT
BEGIN:VEVENT
DTSTART;TZID=America/New_York:20211130T183000
DTEND;TZID=America/New_York:20211130T203000
DTSTAMP:20260424T042915
CREATED:20210914T195205Z
LAST-MODIFIED:20211124T003104Z
UID:2315-1638297000-1638304200@www.stpetedeltas.org
SUMMARY:Monthly Executive Board Meeting
DESCRIPTION:Sorry but this content is reserved for logged in SPACDST members.  Members\, please log in below. \n        \n            \n				Username or Email Address\n				\n			 \n				Password\n				\n			 Lost Password? Remember Me
URL:https://www.stpetedeltas.org/event/executive-board-meeting-nov-21/
LOCATION:ZOOM Virtual Meeting
CATEGORIES:public
ATTACH;FMTTYPE=image/png:https://www.stpetedeltas.org/wp-content/uploads/2020/05/SPAC_Slider_Empowerment.png
END:VEVENT
BEGIN:VEVENT
DTSTART;TZID=America/New_York:20211127T110000
DTEND;TZID=America/New_York:20211127T123000
DTSTAMP:20260424T042915
CREATED:20211008T143417Z
LAST-MODIFIED:20211120T014800Z
UID:2385-1638010800-1638016200@www.stpetedeltas.org
SUMMARY:Virtual Black Business Bus Tour
DESCRIPTION:Sorry but this content is reserved for logged in SPACDST members.  Members\, please log in below. \n        \n            \n				Username or Email Address\n				\n			 \n				Password\n				\n			 Lost Password? Remember Me
URL:https://www.stpetedeltas.org/event/black-business-bus-tour-21/
LOCATION:Virtual Event
CATEGORIES:public
ATTACH;FMTTYPE=image/jpeg:https://www.stpetedeltas.org/wp-content/uploads/2021/10/BBB-Tour-Flyer-1.jpg
END:VEVENT
BEGIN:VEVENT
DTSTART;TZID=America/New_York:20211113T100000
DTEND;TZID=America/New_York:20211113T123000
DTSTAMP:20260424T042915
CREATED:20210914T194845Z
LAST-MODIFIED:20210914T194845Z
UID:2311-1636797600-1636806600@www.stpetedeltas.org
SUMMARY:Monthly Chapter Meeting
DESCRIPTION:Sorry but this content is reserved for logged in SPACDST members.  Members\, please log in below. \n        \n            \n				Username or Email Address\n				\n			 \n				Password\n				\n			 Lost Password? Remember Me
URL:https://www.stpetedeltas.org/event/chapter-meeting-nov-21/
LOCATION:ZOOM Virtual Meeting
CATEGORIES:public
ATTACH;FMTTYPE=image/jpeg:https://www.stpetedeltas.org/wp-content/uploads/2020/05/black-history-2020.jpg
END:VEVENT
BEGIN:VEVENT
DTSTART;TZID=America/New_York:20211028T183000
DTEND;TZID=America/New_York:20211028T203000
DTSTAMP:20260424T042915
CREATED:20210914T195307Z
LAST-MODIFIED:20210914T195307Z
UID:2316-1635445800-1635453000@www.stpetedeltas.org
SUMMARY:Monthly Executive Board Meeting
DESCRIPTION:Sorry but this content is reserved for logged in SPACDST members.  Members\, please log in below. \n        \n            \n				Username or Email Address\n				\n			 \n				Password\n				\n			 Lost Password? Remember Me
URL:https://www.stpetedeltas.org/event/executive-board-meeting-oct-21/
LOCATION:ZOOM Virtual Meeting
CATEGORIES:public
ATTACH;FMTTYPE=image/png:https://www.stpetedeltas.org/wp-content/uploads/2020/05/SPAC_Slider_Empowerment.png
END:VEVENT
BEGIN:VEVENT
DTSTART;TZID=America/New_York:20211009T100000
DTEND;TZID=America/New_York:20211009T123000
DTSTAMP:20260424T042915
CREATED:20210914T194625Z
LAST-MODIFIED:20210914T194944Z
UID:2309-1633773600-1633782600@www.stpetedeltas.org
SUMMARY:Monthly Chapter Meeting
DESCRIPTION:Sorry but this content is reserved for logged in SPACDST members.  Members\, please log in below. \n        \n            \n				Username or Email Address\n				\n			 \n				Password\n				\n			 Lost Password? Remember Me
URL:https://www.stpetedeltas.org/event/chapter-meeting-oct-21/
LOCATION:ZOOM Virtual Meeting
CATEGORIES:public
ATTACH;FMTTYPE=image/jpeg:https://www.stpetedeltas.org/wp-content/uploads/2020/05/black-history-2020.jpg
END:VEVENT
BEGIN:VEVENT
DTSTART;TZID=America/New_York:20210927T183000
DTEND;TZID=America/New_York:20210927T203000
DTSTAMP:20260424T042915
CREATED:20210914T195108Z
LAST-MODIFIED:20210915T015315Z
UID:2313-1632767400-1632774600@www.stpetedeltas.org
SUMMARY:Monthly Executive Board Meeting
DESCRIPTION:Sorry but this content is reserved for logged in SPACDST members.  Members\, please log in below. \n        \n            \n				Username or Email Address\n				\n			 \n				Password\n				\n			 Lost Password? Remember Me
URL:https://www.stpetedeltas.org/event/executive-board-meeting-sep-21/
LOCATION:ZOOM Virtual Meeting
CATEGORIES:public
ATTACH;FMTTYPE=image/png:https://www.stpetedeltas.org/wp-content/uploads/2020/05/SPAC_Slider_Empowerment.png
END:VEVENT
BEGIN:VEVENT
DTSTART;TZID=America/New_York:20210925T100000
DTEND;TZID=America/New_York:20210925T120000
DTSTAMP:20260424T042915
CREATED:20210916T233640Z
LAST-MODIFIED:20210917T024546Z
UID:2327-1632564000-1632571200@www.stpetedeltas.org
SUMMARY:Coffee in Common: Realism and Racial Constructs
DESCRIPTION:Sorry but this content is reserved for logged in SPACDST members.  Members\, please log in below. \n        \n            \n				Username or Email Address\n				\n			 \n				Password\n				\n			 Lost Password? Remember Me
URL:https://www.stpetedeltas.org/event/coffee-in-common-sep-21/
LOCATION:ZOOM Virtual Meeting
CATEGORIES:public
ATTACH;FMTTYPE=image/jpeg:https://www.stpetedeltas.org/wp-content/uploads/2021/09/Coffee-In-Common-Sept2021.jpg
END:VEVENT
BEGIN:VEVENT
DTSTART;TZID=America/New_York:20210911T100000
DTEND;TZID=America/New_York:20210911T123000
DTSTAMP:20260424T042915
CREATED:20210816T011539Z
LAST-MODIFIED:20210816T011539Z
UID:2248-1631354400-1631363400@www.stpetedeltas.org
SUMMARY:Monthly Chapter Meeting
DESCRIPTION:Sorry but this content is reserved for logged in SPACDST members.  Members\, please log in below. \n        \n            \n				Username or Email Address\n				\n			 \n				Password\n				\n			 Lost Password? Remember Me
URL:https://www.stpetedeltas.org/event/chapter-meeting-sep-21/
LOCATION:ZOOM Virtual Meeting
CATEGORIES:public
ATTACH;FMTTYPE=image/jpeg:https://www.stpetedeltas.org/wp-content/uploads/2020/05/black-history-2020.jpg
END:VEVENT
BEGIN:VEVENT
DTSTART;TZID=America/New_York:20210829T170000
DTEND;TZID=America/New_York:20210829T180000
DTSTAMP:20260424T042915
CREATED:20210825T182950Z
LAST-MODIFIED:20210825T182950Z
UID:2276-1630256400-1630260000@www.stpetedeltas.org
SUMMARY:Delta Academy & Delta G.E.M.S. Information Session
DESCRIPTION:Sorry but this content is reserved for logged in SPACDST members.  Members\, please log in below. \n        \n            \n				Username or Email Address\n				\n			 \n				Password\n				\n			 Lost Password? Remember Me
URL:https://www.stpetedeltas.org/event/delta-academy-delta-g-e-m-s-information-session/
LOCATION:ZOOM Virtual Meeting
CATEGORIES:public
END:VEVENT
BEGIN:VEVENT
DTSTART;TZID=America/New_York:20210821T090000
DTEND;TZID=America/New_York:20210821T130000
DTSTAMP:20260424T042915
CREATED:20210816T012242Z
LAST-MODIFIED:20210816T012242Z
UID:2252-1629536400-1629550800@www.stpetedeltas.org
SUMMARY:2021 SPAC Virtual Leadership Retreat
DESCRIPTION:Sorry but this content is reserved for logged in SPACDST members.  Members\, please log in below. \n        \n            \n				Username or Email Address\n				\n			 \n				Password\n				\n			 Lost Password? Remember Me
URL:https://www.stpetedeltas.org/event/leadership-retreat-2021/
LOCATION:ZOOM Virtual Meeting
CATEGORIES:public
ATTACH;FMTTYPE=image/png:https://www.stpetedeltas.org/wp-content/uploads/2020/05/SPAC_Slider_Empowerment.png
END:VEVENT
BEGIN:VEVENT
DTSTART;TZID=America/New_York:20210612T100000
DTEND;TZID=America/New_York:20210612T123000
DTSTAMP:20260424T042915
CREATED:20210321T024856Z
LAST-MODIFIED:20210321T024856Z
UID:1870-1623492000-1623501000@www.stpetedeltas.org
SUMMARY:Monthly Chapter Meeting
DESCRIPTION:Sorry but this content is reserved for logged in SPACDST members.  Members\, please log in below. \n        \n            \n				Username or Email Address\n				\n			 \n				Password\n				\n			 Lost Password? Remember Me
URL:https://www.stpetedeltas.org/event/chapter-meeting-jun-21/
LOCATION:ZOOM Virtual Meeting
CATEGORIES:public
ATTACH;FMTTYPE=image/jpeg:https://www.stpetedeltas.org/wp-content/uploads/2020/05/black-history-2020.jpg
END:VEVENT
BEGIN:VEVENT
DTSTART;TZID=America/New_York:20210527T183000
DTEND;TZID=America/New_York:20210527T203000
DTSTAMP:20260424T042915
CREATED:20210321T024811Z
LAST-MODIFIED:20210321T024811Z
UID:1868-1622140200-1622147400@www.stpetedeltas.org
SUMMARY:Monthly Executive Board Meeting
DESCRIPTION:Sorry but this content is reserved for logged in SPACDST members.  Members\, please log in below. \n        \n            \n				Username or Email Address\n				\n			 \n				Password\n				\n			 Lost Password? Remember Me
URL:https://www.stpetedeltas.org/event/executive-board-meeting-may-21/
LOCATION:ZOOM Virtual Meeting
CATEGORIES:public
ATTACH;FMTTYPE=image/png:https://www.stpetedeltas.org/wp-content/uploads/2020/05/SPAC_Slider_Empowerment.png
END:VEVENT
BEGIN:VEVENT
DTSTART;TZID=America/New_York:20210523T160000
DTEND;TZID=America/New_York:20210523T180000
DTSTAMP:20260424T042915
CREATED:20210502T044549Z
LAST-MODIFIED:20210507T215613Z
UID:2069-1621785600-1621792800@www.stpetedeltas.org
SUMMARY:60th Diamond Anniversary Virtual Gala
DESCRIPTION:Sorry but this content is reserved for logged in SPACDST members.  Members\, please log in below. \n        \n            \n				Username or Email Address\n				\n			 \n				Password\n				\n			 Lost Password? Remember Me
URL:https://www.stpetedeltas.org/event/60th-anniversary-gala/
LOCATION:Virtual Event
CATEGORIES:public
ATTACH;FMTTYPE=image/jpeg:https://www.stpetedeltas.org/wp-content/uploads/2021/05/60anniversary.jpg
END:VEVENT
BEGIN:VEVENT
DTSTART;TZID=America/New_York:20210508T180000
DTEND;TZID=America/New_York:20210508T200000
DTSTAMP:20260424T042915
CREATED:20210421T175105Z
LAST-MODIFIED:20210425T024528Z
UID:1975-1620496800-1620504000@www.stpetedeltas.org
SUMMARY:HeART & SOUL: A Virtual Evening of Arts
DESCRIPTION:Sorry but this content is reserved for logged in SPACDST members.  Members\, please log in below. \n        \n            \n				Username or Email Address\n				\n			 \n				Password\n				\n			 Lost Password? Remember Me
URL:https://www.stpetedeltas.org/event/heartandsoul/
LOCATION:Virtual Event
CATEGORIES:public
ATTACH;FMTTYPE=image/jpeg:https://www.stpetedeltas.org/wp-content/uploads/2021/04/literarycafe-2021-scaled.jpg
END:VEVENT
BEGIN:VEVENT
DTSTART;TZID=America/New_York:20210508T100000
DTEND;TZID=America/New_York:20210508T123000
DTSTAMP:20260424T042915
CREATED:20210321T024617Z
LAST-MODIFIED:20210321T024617Z
UID:1864-1620468000-1620477000@www.stpetedeltas.org
SUMMARY:Monthly Chapter Meeting
DESCRIPTION:Sorry but this content is reserved for logged in SPACDST members.  Members\, please log in below. \n        \n            \n				Username or Email Address\n				\n			 \n				Password\n				\n			 Lost Password? Remember Me
URL:https://www.stpetedeltas.org/event/chapter-meeting-may-21/
LOCATION:ZOOM Virtual Meeting
CATEGORIES:public
ATTACH;FMTTYPE=image/jpeg:https://www.stpetedeltas.org/wp-content/uploads/2020/05/black-history-2020.jpg
END:VEVENT
BEGIN:VEVENT
DTSTART;TZID=America/New_York:20210505T120000
DTEND;TZID=America/New_York:20210505T133000
DTSTAMP:20260424T042915
CREATED:20210425T005806Z
LAST-MODIFIED:20210502T050521Z
UID:2005-1620216000-1620221400@www.stpetedeltas.org
SUMMARY:Coffee in Common: Fighting Voter Suppression
DESCRIPTION:Sorry but this content is reserved for logged in SPACDST members.  Members\, please log in below. \n        \n            \n				Username or Email Address\n				\n			 \n				Password\n				\n			 Lost Password? Remember Me
URL:https://www.stpetedeltas.org/event/coffee-in-common-may-21/
LOCATION:ZOOM Virtual Meeting
CATEGORIES:public
ATTACH;FMTTYPE=image/jpeg:https://www.stpetedeltas.org/wp-content/uploads/2021/04/Coffee-In-Common-May21.jpg
END:VEVENT
BEGIN:VEVENT
DTSTART;TZID=America/New_York:20210501T113000
DTEND;TZID=America/New_York:20210501T130000
DTSTAMP:20260424T042915
CREATED:20210425T000028Z
LAST-MODIFIED:20210426T025932Z
UID:1995-1619868600-1619874000@www.stpetedeltas.org
SUMMARY:Where Does Your Money Reside?
DESCRIPTION:Sorry but this content is reserved for logged in SPACDST members.  Members\, please log in below. \n        \n            \n				Username or Email Address\n				\n			 \n				Password\n				\n			 Lost Password? Remember Me
URL:https://www.stpetedeltas.org/event/where-does-your-money-reside/
LOCATION:ZOOM Virtual Meeting
CATEGORIES:public
ATTACH;FMTTYPE=image/jpeg:https://www.stpetedeltas.org/wp-content/uploads/2021/04/May-Week-Flyer-3-Economic-Development-Flyer-B.jpeg
END:VEVENT
BEGIN:VEVENT
DTSTART;TZID=America/New_York:20210501T080000
DTEND;TZID=America/New_York:20210508T200000
DTSTAMP:20260424T042915
CREATED:20210401T022703Z
LAST-MODIFIED:20210425T024203Z
UID:1913-1619856000-1620504000@www.stpetedeltas.org
SUMMARY:22\,000 Steps to a Stronger You!
DESCRIPTION:Sorry but this content is reserved for logged in SPACDST members.  Members\, please log in below. \n        \n            \n				Username or Email Address\n				\n			 \n				Password\n				\n			 Lost Password? Remember Me
URL:https://www.stpetedeltas.org/event/22000-steps/
CATEGORIES:public
ATTACH;FMTTYPE=image/png:https://www.stpetedeltas.org/wp-content/uploads/2021/03/May-Week-Flyer-4-Physical-and-Mental-Health.png
END:VEVENT
BEGIN:VEVENT
DTSTART;VALUE=DATE:20210501
DTEND;VALUE=DATE:20210509
DTSTAMP:20260424T042915
CREATED:20210425T021228Z
LAST-MODIFIED:20210425T045231Z
UID:2014-1619827200-1620518399@www.stpetedeltas.org
SUMMARY:May Week 2021: Enduring Strength through Service and Scholarship
DESCRIPTION:Sorry but this content is reserved for logged in SPACDST members.  Members\, please log in below. \n        \n            \n				Username or Email Address\n				\n			 \n				Password\n				\n			 Lost Password? Remember Me
URL:https://www.stpetedeltas.org/event/may-week-2021/
CATEGORIES:public
ATTACH;FMTTYPE=image/png:https://www.stpetedeltas.org/wp-content/uploads/2021/04/May-Week-Full-Week-of-Events-Slider.png
END:VEVENT
BEGIN:VEVENT
DTSTART;TZID=America/New_York:20210422T183000
DTEND;TZID=America/New_York:20210422T203000
DTSTAMP:20260424T042915
CREATED:20210321T024726Z
LAST-MODIFIED:20210321T024726Z
UID:1866-1619116200-1619123400@www.stpetedeltas.org
SUMMARY:Monthly Executive Board Meeting
DESCRIPTION:Sorry but this content is reserved for logged in SPACDST members.  Members\, please log in below. \n        \n            \n				Username or Email Address\n				\n			 \n				Password\n				\n			 Lost Password? Remember Me
URL:https://www.stpetedeltas.org/event/executive-board-meeting-apr-21/
LOCATION:ZOOM Virtual Meeting
CATEGORIES:public
ATTACH;FMTTYPE=image/png:https://www.stpetedeltas.org/wp-content/uploads/2020/05/SPAC_Slider_Empowerment.png
END:VEVENT
BEGIN:VEVENT
DTSTART;TZID=America/New_York:20210417T120000
DTEND;TZID=America/New_York:20210417T160000
DTSTAMP:20260424T042915
CREATED:20210320T001013Z
LAST-MODIFIED:20210320T001013Z
UID:1805-1618660800-1618675200@www.stpetedeltas.org
SUMMARY:We are our Brothers & Sisters Keeper - April 17
DESCRIPTION:Sorry but this content is reserved for logged in SPACDST members.  Members\, please log in below. \n        \n            \n				Username or Email Address\n				\n			 \n				Password\n				\n			 Lost Password? Remember Me
URL:https://www.stpetedeltas.org/event/we-are-our-brothers-sisters-keeper-0417/
LOCATION:Taste of Gourmet\, 4195 54th Ave No Ste E.\, St. Petersburg
CATEGORIES:public
ATTACH;FMTTYPE=image/jpeg:https://www.stpetedeltas.org/wp-content/uploads/2021/03/Featured-Restaurants-2021.jpg
END:VEVENT
BEGIN:VEVENT
DTSTART;TZID=America/New_York:20210410T100000
DTEND;TZID=America/New_York:20210410T123000
DTSTAMP:20260424T042915
CREATED:20210321T024535Z
LAST-MODIFIED:20210321T024535Z
UID:1862-1618048800-1618057800@www.stpetedeltas.org
SUMMARY:Monthly Chapter Meeting
DESCRIPTION:Sorry but this content is reserved for logged in SPACDST members.  Members\, please log in below. \n        \n            \n				Username or Email Address\n				\n			 \n				Password\n				\n			 Lost Password? Remember Me
URL:https://www.stpetedeltas.org/event/chapter-meeting-apr-21/
LOCATION:ZOOM Virtual Meeting
CATEGORIES:public
ATTACH;FMTTYPE=image/jpeg:https://www.stpetedeltas.org/wp-content/uploads/2020/05/black-history-2020.jpg
END:VEVENT
BEGIN:VEVENT
DTSTART;TZID=America/New_York:20210327T100000
DTEND;TZID=America/New_York:20210327T120000
DTSTAMP:20260424T042915
CREATED:20210320T010527Z
LAST-MODIFIED:20210425T005436Z
UID:1809-1616839200-1616846400@www.stpetedeltas.org
SUMMARY:Coffee in Common: Intersectionality: Feminism & Racial Justice
DESCRIPTION:Sorry but this content is reserved for logged in SPACDST members.  Members\, please log in below. \n        \n            \n				Username or Email Address\n				\n			 \n				Password\n				\n			 Lost Password? Remember Me
URL:https://www.stpetedeltas.org/event/coffee-in-common-mar-21/
LOCATION:ZOOM Virtual Meeting
CATEGORIES:public
ATTACH;FMTTYPE=image/png:https://www.stpetedeltas.org/wp-content/uploads/2021/03/FB-Post-Coffee-in-Common-Flyer.png
END:VEVENT
BEGIN:VEVENT
DTSTART;TZID=America/New_York:20210325T183000
DTEND;TZID=America/New_York:20210325T203000
DTSTAMP:20260424T042915
CREATED:20210203T025451Z
LAST-MODIFIED:20210203T025451Z
UID:1537-1616697000-1616704200@www.stpetedeltas.org
SUMMARY:Monthly Executive Board Meeting
DESCRIPTION:Sorry but this content is reserved for logged in SPACDST members.  Members\, please log in below. \n        \n            \n				Username or Email Address\n				\n			 \n				Password\n				\n			 Lost Password? Remember Me
URL:https://www.stpetedeltas.org/event/executive-board-meeting-mar-21/
LOCATION:ZOOM Virtual Meeting
CATEGORIES:public
ATTACH;FMTTYPE=image/png:https://www.stpetedeltas.org/wp-content/uploads/2020/05/SPAC_Slider_Empowerment.png
END:VEVENT
BEGIN:VEVENT
DTSTART;TZID=America/New_York:20210320T190000
DTEND;TZID=America/New_York:20210320T210000
DTSTAMP:20260424T042915
CREATED:20210319T234650Z
LAST-MODIFIED:20210320T001522Z
UID:1790-1616266800-1616274000@www.stpetedeltas.org
SUMMARY:A Brother's Honor Virtual Red Carpet Movie Night
DESCRIPTION:Sorry but this content is reserved for logged in SPACDST members.  Members\, please log in below. \n        \n            \n				Username or Email Address\n				\n			 \n				Password\n				\n			 Lost Password? Remember Me
URL:https://www.stpetedeltas.org/event/a-brothers-honor-virtual-red-carpet-movie-night/
CATEGORIES:public
ATTACH;FMTTYPE=image/jpeg:https://www.stpetedeltas.org/wp-content/uploads/2021/03/a-brothers-honor-movie.jpg
END:VEVENT
END:VCALENDAR