BEGIN:VCALENDAR
VERSION:2.0
PRODID:-//St. Petersburg Alumnae Chapter of Delta Sigma Theta Sorority, Inc. - ECPv6.15.20//NONSGML v1.0//EN
CALSCALE:GREGORIAN
METHOD:PUBLISH
X-WR-CALNAME:St. Petersburg Alumnae Chapter of Delta Sigma Theta Sorority, Inc.
X-ORIGINAL-URL:https://www.stpetedeltas.org
X-WR-CALDESC:Events for St. Petersburg Alumnae Chapter of Delta Sigma Theta Sorority, Inc.
REFRESH-INTERVAL;VALUE=DURATION:PT1H
X-Robots-Tag:noindex
X-PUBLISHED-TTL:PT1H
BEGIN:VTIMEZONE
TZID:America/New_York
BEGIN:DAYLIGHT
TZOFFSETFROM:-0500
TZOFFSETTO:-0400
TZNAME:EDT
DTSTART:20190310T070000
END:DAYLIGHT
BEGIN:STANDARD
TZOFFSETFROM:-0400
TZOFFSETTO:-0500
TZNAME:EST
DTSTART:20191103T060000
END:STANDARD
BEGIN:DAYLIGHT
TZOFFSETFROM:-0500
TZOFFSETTO:-0400
TZNAME:EDT
DTSTART:20200308T070000
END:DAYLIGHT
BEGIN:STANDARD
TZOFFSETFROM:-0400
TZOFFSETTO:-0500
TZNAME:EST
DTSTART:20201101T060000
END:STANDARD
BEGIN:DAYLIGHT
TZOFFSETFROM:-0500
TZOFFSETTO:-0400
TZNAME:EDT
DTSTART:20210314T070000
END:DAYLIGHT
BEGIN:STANDARD
TZOFFSETFROM:-0400
TZOFFSETTO:-0500
TZNAME:EST
DTSTART:20211107T060000
END:STANDARD
BEGIN:DAYLIGHT
TZOFFSETFROM:-0500
TZOFFSETTO:-0400
TZNAME:EDT
DTSTART:20220313T070000
END:DAYLIGHT
BEGIN:STANDARD
TZOFFSETFROM:-0400
TZOFFSETTO:-0500
TZNAME:EST
DTSTART:20221106T060000
END:STANDARD
END:VTIMEZONE
BEGIN:VEVENT
DTSTART;TZID=America/New_York:20210508T180000
DTEND;TZID=America/New_York:20210508T200000
DTSTAMP:20260424T032546
CREATED:20210421T175105Z
LAST-MODIFIED:20210425T024528Z
UID:1975-1620496800-1620504000@www.stpetedeltas.org
SUMMARY:HeART & SOUL: A Virtual Evening of Arts
DESCRIPTION:Sorry but this content is reserved for logged in SPACDST members.  Members\, please log in below. \n        \n            \n				Username or Email Address\n				\n			 \n				Password\n				\n			 Lost Password? Remember Me
URL:https://www.stpetedeltas.org/event/heartandsoul/
LOCATION:Virtual Event
CATEGORIES:public
ATTACH;FMTTYPE=image/jpeg:https://www.stpetedeltas.org/wp-content/uploads/2021/04/literarycafe-2021-scaled.jpg
END:VEVENT
BEGIN:VEVENT
DTSTART;TZID=America/New_York:20210508T100000
DTEND;TZID=America/New_York:20210508T123000
DTSTAMP:20260424T032546
CREATED:20210321T024617Z
LAST-MODIFIED:20210321T024617Z
UID:1864-1620468000-1620477000@www.stpetedeltas.org
SUMMARY:Monthly Chapter Meeting
DESCRIPTION:Sorry but this content is reserved for logged in SPACDST members.  Members\, please log in below. \n        \n            \n				Username or Email Address\n				\n			 \n				Password\n				\n			 Lost Password? Remember Me
URL:https://www.stpetedeltas.org/event/chapter-meeting-may-21/
LOCATION:ZOOM Virtual Meeting
CATEGORIES:public
ATTACH;FMTTYPE=image/jpeg:https://www.stpetedeltas.org/wp-content/uploads/2020/05/black-history-2020.jpg
END:VEVENT
BEGIN:VEVENT
DTSTART;TZID=America/New_York:20210505T120000
DTEND;TZID=America/New_York:20210505T133000
DTSTAMP:20260424T032546
CREATED:20210425T005806Z
LAST-MODIFIED:20210502T050521Z
UID:2005-1620216000-1620221400@www.stpetedeltas.org
SUMMARY:Coffee in Common: Fighting Voter Suppression
DESCRIPTION:Sorry but this content is reserved for logged in SPACDST members.  Members\, please log in below. \n        \n            \n				Username or Email Address\n				\n			 \n				Password\n				\n			 Lost Password? Remember Me
URL:https://www.stpetedeltas.org/event/coffee-in-common-may-21/
LOCATION:ZOOM Virtual Meeting
CATEGORIES:public
ATTACH;FMTTYPE=image/jpeg:https://www.stpetedeltas.org/wp-content/uploads/2021/04/Coffee-In-Common-May21.jpg
END:VEVENT
BEGIN:VEVENT
DTSTART;TZID=America/New_York:20210501T113000
DTEND;TZID=America/New_York:20210501T130000
DTSTAMP:20260424T032546
CREATED:20210425T000028Z
LAST-MODIFIED:20210426T025932Z
UID:1995-1619868600-1619874000@www.stpetedeltas.org
SUMMARY:Where Does Your Money Reside?
DESCRIPTION:Sorry but this content is reserved for logged in SPACDST members.  Members\, please log in below. \n        \n            \n				Username or Email Address\n				\n			 \n				Password\n				\n			 Lost Password? Remember Me
URL:https://www.stpetedeltas.org/event/where-does-your-money-reside/
LOCATION:ZOOM Virtual Meeting
CATEGORIES:public
ATTACH;FMTTYPE=image/jpeg:https://www.stpetedeltas.org/wp-content/uploads/2021/04/May-Week-Flyer-3-Economic-Development-Flyer-B.jpeg
END:VEVENT
BEGIN:VEVENT
DTSTART;TZID=America/New_York:20210501T080000
DTEND;TZID=America/New_York:20210508T200000
DTSTAMP:20260424T032546
CREATED:20210401T022703Z
LAST-MODIFIED:20210425T024203Z
UID:1913-1619856000-1620504000@www.stpetedeltas.org
SUMMARY:22\,000 Steps to a Stronger You!
DESCRIPTION:Sorry but this content is reserved for logged in SPACDST members.  Members\, please log in below. \n        \n            \n				Username or Email Address\n				\n			 \n				Password\n				\n			 Lost Password? Remember Me
URL:https://www.stpetedeltas.org/event/22000-steps/
CATEGORIES:public
ATTACH;FMTTYPE=image/png:https://www.stpetedeltas.org/wp-content/uploads/2021/03/May-Week-Flyer-4-Physical-and-Mental-Health.png
END:VEVENT
BEGIN:VEVENT
DTSTART;VALUE=DATE:20210501
DTEND;VALUE=DATE:20210509
DTSTAMP:20260424T032546
CREATED:20210425T021228Z
LAST-MODIFIED:20210425T045231Z
UID:2014-1619827200-1620518399@www.stpetedeltas.org
SUMMARY:May Week 2021: Enduring Strength through Service and Scholarship
DESCRIPTION:Sorry but this content is reserved for logged in SPACDST members.  Members\, please log in below. \n        \n            \n				Username or Email Address\n				\n			 \n				Password\n				\n			 Lost Password? Remember Me
URL:https://www.stpetedeltas.org/event/may-week-2021/
CATEGORIES:public
ATTACH;FMTTYPE=image/png:https://www.stpetedeltas.org/wp-content/uploads/2021/04/May-Week-Full-Week-of-Events-Slider.png
END:VEVENT
BEGIN:VEVENT
DTSTART;TZID=America/New_York:20210422T183000
DTEND;TZID=America/New_York:20210422T203000
DTSTAMP:20260424T032546
CREATED:20210321T024726Z
LAST-MODIFIED:20210321T024726Z
UID:1866-1619116200-1619123400@www.stpetedeltas.org
SUMMARY:Monthly Executive Board Meeting
DESCRIPTION:Sorry but this content is reserved for logged in SPACDST members.  Members\, please log in below. \n        \n            \n				Username or Email Address\n				\n			 \n				Password\n				\n			 Lost Password? Remember Me
URL:https://www.stpetedeltas.org/event/executive-board-meeting-apr-21/
LOCATION:ZOOM Virtual Meeting
CATEGORIES:public
ATTACH;FMTTYPE=image/png:https://www.stpetedeltas.org/wp-content/uploads/2020/05/SPAC_Slider_Empowerment.png
END:VEVENT
BEGIN:VEVENT
DTSTART;TZID=America/New_York:20210417T120000
DTEND;TZID=America/New_York:20210417T160000
DTSTAMP:20260424T032546
CREATED:20210320T001013Z
LAST-MODIFIED:20210320T001013Z
UID:1805-1618660800-1618675200@www.stpetedeltas.org
SUMMARY:We are our Brothers & Sisters Keeper - April 17
DESCRIPTION:Sorry but this content is reserved for logged in SPACDST members.  Members\, please log in below. \n        \n            \n				Username or Email Address\n				\n			 \n				Password\n				\n			 Lost Password? Remember Me
URL:https://www.stpetedeltas.org/event/we-are-our-brothers-sisters-keeper-0417/
LOCATION:Taste of Gourmet\, 4195 54th Ave No Ste E.\, St. Petersburg
CATEGORIES:public
ATTACH;FMTTYPE=image/jpeg:https://www.stpetedeltas.org/wp-content/uploads/2021/03/Featured-Restaurants-2021.jpg
END:VEVENT
BEGIN:VEVENT
DTSTART;TZID=America/New_York:20210410T100000
DTEND;TZID=America/New_York:20210410T123000
DTSTAMP:20260424T032546
CREATED:20210321T024535Z
LAST-MODIFIED:20210321T024535Z
UID:1862-1618048800-1618057800@www.stpetedeltas.org
SUMMARY:Monthly Chapter Meeting
DESCRIPTION:Sorry but this content is reserved for logged in SPACDST members.  Members\, please log in below. \n        \n            \n				Username or Email Address\n				\n			 \n				Password\n				\n			 Lost Password? Remember Me
URL:https://www.stpetedeltas.org/event/chapter-meeting-apr-21/
LOCATION:ZOOM Virtual Meeting
CATEGORIES:public
ATTACH;FMTTYPE=image/jpeg:https://www.stpetedeltas.org/wp-content/uploads/2020/05/black-history-2020.jpg
END:VEVENT
BEGIN:VEVENT
DTSTART;TZID=America/New_York:20210327T100000
DTEND;TZID=America/New_York:20210327T120000
DTSTAMP:20260424T032546
CREATED:20210320T010527Z
LAST-MODIFIED:20210425T005436Z
UID:1809-1616839200-1616846400@www.stpetedeltas.org
SUMMARY:Coffee in Common: Intersectionality: Feminism & Racial Justice
DESCRIPTION:Sorry but this content is reserved for logged in SPACDST members.  Members\, please log in below. \n        \n            \n				Username or Email Address\n				\n			 \n				Password\n				\n			 Lost Password? Remember Me
URL:https://www.stpetedeltas.org/event/coffee-in-common-mar-21/
LOCATION:ZOOM Virtual Meeting
CATEGORIES:public
ATTACH;FMTTYPE=image/png:https://www.stpetedeltas.org/wp-content/uploads/2021/03/FB-Post-Coffee-in-Common-Flyer.png
END:VEVENT
BEGIN:VEVENT
DTSTART;TZID=America/New_York:20210325T183000
DTEND;TZID=America/New_York:20210325T203000
DTSTAMP:20260424T032546
CREATED:20210203T025451Z
LAST-MODIFIED:20210203T025451Z
UID:1537-1616697000-1616704200@www.stpetedeltas.org
SUMMARY:Monthly Executive Board Meeting
DESCRIPTION:Sorry but this content is reserved for logged in SPACDST members.  Members\, please log in below. \n        \n            \n				Username or Email Address\n				\n			 \n				Password\n				\n			 Lost Password? Remember Me
URL:https://www.stpetedeltas.org/event/executive-board-meeting-mar-21/
LOCATION:ZOOM Virtual Meeting
CATEGORIES:public
ATTACH;FMTTYPE=image/png:https://www.stpetedeltas.org/wp-content/uploads/2020/05/SPAC_Slider_Empowerment.png
END:VEVENT
BEGIN:VEVENT
DTSTART;TZID=America/New_York:20210320T190000
DTEND;TZID=America/New_York:20210320T210000
DTSTAMP:20260424T032546
CREATED:20210319T234650Z
LAST-MODIFIED:20210320T001522Z
UID:1790-1616266800-1616274000@www.stpetedeltas.org
SUMMARY:A Brother's Honor Virtual Red Carpet Movie Night
DESCRIPTION:Sorry but this content is reserved for logged in SPACDST members.  Members\, please log in below. \n        \n            \n				Username or Email Address\n				\n			 \n				Password\n				\n			 Lost Password? Remember Me
URL:https://www.stpetedeltas.org/event/a-brothers-honor-virtual-red-carpet-movie-night/
CATEGORIES:public
ATTACH;FMTTYPE=image/jpeg:https://www.stpetedeltas.org/wp-content/uploads/2021/03/a-brothers-honor-movie.jpg
END:VEVENT
BEGIN:VEVENT
DTSTART;TZID=America/New_York:20210320T110000
DTEND;TZID=America/New_York:20210320T180000
DTSTAMP:20260424T032546
CREATED:20210319T235925Z
LAST-MODIFIED:20210320T000337Z
UID:1797-1616238000-1616263200@www.stpetedeltas.org
SUMMARY:We are our Brothers & Sisters Keeper - March 20
DESCRIPTION:Sorry but this content is reserved for logged in SPACDST members.  Members\, please log in below. \n        \n            \n				Username or Email Address\n				\n			 \n				Password\n				\n			 Lost Password? Remember Me
URL:https://www.stpetedeltas.org/event/we-are-our-brothers-sisters-keeper-0320/
LOCATION:Chief’s Creole Cafe\, 901 22nd St. So\, St. Petersburg
CATEGORIES:public
ATTACH;FMTTYPE=image/jpeg:https://www.stpetedeltas.org/wp-content/uploads/2021/03/Featured-Restaurants-2021.jpg
END:VEVENT
BEGIN:VEVENT
DTSTART;TZID=America/New_York:20210313T120000
DTEND;TZID=America/New_York:20210313T180000
DTSTAMP:20260424T032546
CREATED:20210319T235545Z
LAST-MODIFIED:20210320T000351Z
UID:1793-1615636800-1615658400@www.stpetedeltas.org
SUMMARY:We are our Brothers & Sisters Keeper - March 13
DESCRIPTION:Sorry but this content is reserved for logged in SPACDST members.  Members\, please log in below. \n        \n            \n				Username or Email Address\n				\n			 \n				Password\n				\n			 Lost Password? Remember Me
URL:https://www.stpetedeltas.org/event/we-are-our-brothers-sisters-keeper-0313/
LOCATION:Baja’s Southern Cooking\, 1836 49th St. S\, St. Petersburg\, FL\, United States
CATEGORIES:public
ATTACH;FMTTYPE=image/jpeg:https://www.stpetedeltas.org/wp-content/uploads/2021/03/Featured-Restaurants-2021.jpg
END:VEVENT
BEGIN:VEVENT
DTSTART;TZID=America/New_York:20210313T100000
DTEND;TZID=America/New_York:20210313T123000
DTSTAMP:20260424T032546
CREATED:20210203T025243Z
LAST-MODIFIED:20210203T025243Z
UID:1533-1615629600-1615638600@www.stpetedeltas.org
SUMMARY:Monthly Chapter Meeting
DESCRIPTION:Sorry but this content is reserved for logged in SPACDST members.  Members\, please log in below. \n        \n            \n				Username or Email Address\n				\n			 \n				Password\n				\n			 Lost Password? Remember Me
URL:https://www.stpetedeltas.org/event/chapter-meeting-mar-21/
LOCATION:ZOOM Virtual Meeting
CATEGORIES:public
ATTACH;FMTTYPE=image/jpeg:https://www.stpetedeltas.org/wp-content/uploads/2020/05/black-history-2020.jpg
END:VEVENT
BEGIN:VEVENT
DTSTART;TZID=America/New_York:20210225T200000
DTEND;TZID=America/New_York:20210301T200000
DTSTAMP:20260424T032546
CREATED:20210221T174040Z
LAST-MODIFIED:20210224T183356Z
UID:1695-1614283200-1614628800@www.stpetedeltas.org
SUMMARY:What's Popping DST
DESCRIPTION:Sorry but this content is reserved for logged in SPACDST members.  Members\, please log in below. \n        \n            \n				Username or Email Address\n				\n			 \n				Password\n				\n			 Lost Password? Remember Me
URL:https://www.stpetedeltas.org/event/whats-popping-dst/
CATEGORIES:public
ATTACH;FMTTYPE=image/jpeg:https://www.stpetedeltas.org/wp-content/uploads/2021/02/SPAC-Popcorn-Fundraiser-Flyer.jpg
END:VEVENT
BEGIN:VEVENT
DTSTART;TZID=America/New_York:20210225T183000
DTEND;TZID=America/New_York:20210225T203000
DTSTAMP:20260424T032546
CREATED:20210203T025344Z
LAST-MODIFIED:20210203T025344Z
UID:1535-1614277800-1614285000@www.stpetedeltas.org
SUMMARY:Monthly Executive Board Meeting
DESCRIPTION:Sorry but this content is reserved for logged in SPACDST members.  Members\, please log in below. \n        \n            \n				Username or Email Address\n				\n			 \n				Password\n				\n			 Lost Password? Remember Me
URL:https://www.stpetedeltas.org/event/executive-board-meeting-feb-21/
LOCATION:ZOOM Virtual Meeting
CATEGORIES:public
ATTACH;FMTTYPE=image/png:https://www.stpetedeltas.org/wp-content/uploads/2020/05/SPAC_Slider_Empowerment.png
END:VEVENT
BEGIN:VEVENT
DTSTART;TZID=America/New_York:20210220T100000
DTEND;TZID=America/New_York:20210220T120000
DTSTAMP:20260424T032546
CREATED:20210221T173502Z
LAST-MODIFIED:20210221T173502Z
UID:1691-1613815200-1613822400@www.stpetedeltas.org
SUMMARY:Coffee in Common
DESCRIPTION:Sorry but this content is reserved for logged in SPACDST members.  Members\, please log in below. \n        \n            \n				Username or Email Address\n				\n			 \n				Password\n				\n			 Lost Password? Remember Me
URL:https://www.stpetedeltas.org/event/coffee-in-common-feb-21/
CATEGORIES:public
ATTACH;FMTTYPE=image/jpeg:https://www.stpetedeltas.org/wp-content/uploads/2021/02/Coffee-In-Common-Feb21.jpg
END:VEVENT
BEGIN:VEVENT
DTSTART;TZID=America/New_York:20210219T200000
DTEND;TZID=America/New_York:20210219T230000
DTSTAMP:20260424T032546
CREATED:20210109T143503Z
LAST-MODIFIED:20210218T005101Z
UID:1454-1613764800-1613775600@www.stpetedeltas.org
SUMMARY:SPAC 60th Birthday Party
DESCRIPTION:Sorry but this content is reserved for logged in SPACDST members.  Members\, please log in below. \n        \n            \n				Username or Email Address\n				\n			 \n				Password\n				\n			 Lost Password? Remember Me
URL:https://www.stpetedeltas.org/event/spac-60th-birthday-party/
LOCATION:Virtual Event
CATEGORIES:public
ATTACH;FMTTYPE=image/png:https://www.stpetedeltas.org/wp-content/uploads/2021/01/60th-Birthday-Party-Header-Rev2.png
END:VEVENT
BEGIN:VEVENT
DTSTART;TZID=America/New_York:20210213T123000
DTEND;TZID=America/New_York:20210213T143000
DTSTAMP:20260424T032546
CREATED:20210203T024632Z
LAST-MODIFIED:20210207T025825Z
UID:1525-1613219400-1613226600@www.stpetedeltas.org
SUMMARY:"A Brother's Honor" Book Review & Author Spotlight
DESCRIPTION:Sorry but this content is reserved for logged in SPACDST members.  Members\, please log in below. \n        \n            \n				Username or Email Address\n				\n			 \n				Password\n				\n			 Lost Password? Remember Me
URL:https://www.stpetedeltas.org/event/a-brothers-honor-book-review/
CATEGORIES:public
ATTACH;FMTTYPE=image/png:https://www.stpetedeltas.org/wp-content/uploads/2021/02/A-BROTHERS-HONOR-PUBLIC-FLYER.png
END:VEVENT
BEGIN:VEVENT
DTSTART;TZID=America/New_York:20210213T100000
DTEND;TZID=America/New_York:20210213T123000
DTSTAMP:20260424T032546
CREATED:20210203T025150Z
LAST-MODIFIED:20210203T025150Z
UID:1531-1613210400-1613219400@www.stpetedeltas.org
SUMMARY:Monthly Chapter Meeting
DESCRIPTION:Sorry but this content is reserved for logged in SPACDST members.  Members\, please log in below. \n        \n            \n				Username or Email Address\n				\n			 \n				Password\n				\n			 Lost Password? Remember Me
URL:https://www.stpetedeltas.org/event/chapter-meeting-feb-21/
LOCATION:ZOOM Virtual Meeting
CATEGORIES:public
ATTACH;FMTTYPE=image/jpeg:https://www.stpetedeltas.org/wp-content/uploads/2020/05/black-history-2020.jpg
END:VEVENT
BEGIN:VEVENT
DTSTART;TZID=America/New_York:20210128T183000
DTEND;TZID=America/New_York:20210128T203000
DTSTAMP:20260424T032546
CREATED:20210109T045724Z
LAST-MODIFIED:20210109T045724Z
UID:1452-1611858600-1611865800@www.stpetedeltas.org
SUMMARY:Monthly Executive Board Meeting
DESCRIPTION:Sorry but this content is reserved for logged in SPACDST members.  Members\, please log in below. \n        \n            \n				Username or Email Address\n				\n			 \n				Password\n				\n			 Lost Password? Remember Me
URL:https://www.stpetedeltas.org/event/monthly-eboard-meeting-jan-21/
LOCATION:ZOOM Virtual Meeting
CATEGORIES:public
ATTACH;FMTTYPE=image/png:https://www.stpetedeltas.org/wp-content/uploads/2020/05/SPAC_Slider_Empowerment.png
END:VEVENT
BEGIN:VEVENT
DTSTART;TZID=America/New_York:20210123T100000
DTEND;TZID=America/New_York:20210123T120000
DTSTAMP:20260424T032546
CREATED:20210119T032351Z
LAST-MODIFIED:20210122T034420Z
UID:1463-1611396000-1611403200@www.stpetedeltas.org
SUMMARY:Coffee in Common: Performative Allyship
DESCRIPTION:Sorry but this content is reserved for logged in SPACDST members.  Members\, please log in below. \n        \n            \n				Username or Email Address\n				\n			 \n				Password\n				\n			 Lost Password? Remember Me
URL:https://www.stpetedeltas.org/event/coffee-in-common-jan-21/
CATEGORIES:public
ATTACH;FMTTYPE=image/png:https://www.stpetedeltas.org/wp-content/uploads/2021/01/Coffee-in-Common-Flyer-Jan-2021.png
END:VEVENT
BEGIN:VEVENT
DTSTART;TZID=America/New_York:20210109T100000
DTEND;TZID=America/New_York:20210109T123000
DTSTAMP:20260424T032546
CREATED:20210105T033814Z
LAST-MODIFIED:20210105T033828Z
UID:1434-1610186400-1610195400@www.stpetedeltas.org
SUMMARY:Monthly Chapter Meeting
DESCRIPTION:Sorry but this content is reserved for logged in SPACDST members.  Members\, please log in below. \n        \n            \n				Username or Email Address\n				\n			 \n				Password\n				\n			 Lost Password? Remember Me
URL:https://www.stpetedeltas.org/event/monthly-chapter-meeting-jan-21/
CATEGORIES:public
ATTACH;FMTTYPE=image/jpeg:https://www.stpetedeltas.org/wp-content/uploads/2020/05/black-history-2020.jpg
END:VEVENT
BEGIN:VEVENT
DTSTART;TZID=America/New_York:20201221T183000
DTEND;TZID=America/New_York:20201221T203000
DTSTAMP:20260424T032546
CREATED:20201209T044233Z
LAST-MODIFIED:20201209T171414Z
UID:1394-1608575400-1608582600@www.stpetedeltas.org
SUMMARY:Monthly Executive Board Meeting
DESCRIPTION:Sorry but this content is reserved for logged in SPACDST members.  Members\, please log in below. \n        \n            \n				Username or Email Address\n				\n			 \n				Password\n				\n			 Lost Password? Remember Me
URL:https://www.stpetedeltas.org/event/monthly-eboard-meeting-dec-20/
LOCATION:ZOOM Virtual Meeting
CATEGORIES:public
ATTACH;FMTTYPE=image/png:https://www.stpetedeltas.org/wp-content/uploads/2020/05/SPAC_Slider_Empowerment.png
END:VEVENT
BEGIN:VEVENT
DTSTART;TZID=America/New_York:20201212T190000
DTEND;TZID=America/New_York:20201212T210000
DTSTAMP:20260424T032546
CREATED:20201107T152416Z
LAST-MODIFIED:20201113T025034Z
UID:1296-1607799600-1607806800@www.stpetedeltas.org
SUMMARY:SPAC Holiday Social (Deltas Only)
DESCRIPTION:Sorry but this content is reserved for logged in SPACDST members.  Members\, please log in below. \n        \n            \n				Username or Email Address\n				\n			 \n				Password\n				\n			 Lost Password? Remember Me
URL:https://www.stpetedeltas.org/event/holiday-social-2020/
LOCATION:ZOOM Virtual Meeting
CATEGORIES:public
ATTACH;FMTTYPE=image/png:https://www.stpetedeltas.org/wp-content/uploads/2020/11/Holiday-Social-2020.png
END:VEVENT
BEGIN:VEVENT
DTSTART;TZID=America/New_York:20201212T100000
DTEND;TZID=America/New_York:20201212T123000
DTSTAMP:20260424T032546
CREATED:20201209T045646Z
LAST-MODIFIED:20201209T172135Z
UID:1400-1607767200-1607776200@www.stpetedeltas.org
SUMMARY:Monthly Chapter Meeting
DESCRIPTION:Sorry but this content is reserved for logged in SPACDST members.  Members\, please log in below. \n        \n            \n				Username or Email Address\n				\n			 \n				Password\n				\n			 Lost Password? Remember Me
URL:https://www.stpetedeltas.org/event/monthly-chapter-meeting-dec-20/
CATEGORIES:public
ATTACH;FMTTYPE=image/jpeg:https://www.stpetedeltas.org/wp-content/uploads/2020/05/black-history-2020.jpg
END:VEVENT
BEGIN:VEVENT
DTSTART;TZID=America/New_York:20201130T183000
DTEND;TZID=America/New_York:20201130T203000
DTSTAMP:20260424T032546
CREATED:20201209T044305Z
LAST-MODIFIED:20201209T171453Z
UID:1396-1606761000-1606768200@www.stpetedeltas.org
SUMMARY:Monthly Executive Board Meeting
DESCRIPTION:Sorry but this content is reserved for logged in SPACDST members.  Members\, please log in below. \n        \n            \n				Username or Email Address\n				\n			 \n				Password\n				\n			 Lost Password? Remember Me
URL:https://www.stpetedeltas.org/event/monthly-eboard-meeting-nov-20/
LOCATION:ZOOM Virtual Meeting
CATEGORIES:public
ATTACH;FMTTYPE=image/png:https://www.stpetedeltas.org/wp-content/uploads/2020/05/SPAC_Slider_Empowerment.png
END:VEVENT
BEGIN:VEVENT
DTSTART;TZID=America/New_York:20201128T110000
DTEND;TZID=America/New_York:20201128T110000
DTSTAMP:20260424T032546
CREATED:20201123T021419Z
LAST-MODIFIED:20201123T022109Z
UID:1348-1606561200-1606561200@www.stpetedeltas.org
SUMMARY:Virtual Black Business Bus Tour
DESCRIPTION:Sorry but this content is reserved for logged in SPACDST members.  Members\, please log in below. \n        \n            \n				Username or Email Address\n				\n			 \n				Password\n				\n			 Lost Password? Remember Me
URL:https://www.stpetedeltas.org/event/virtual-black-business-bus-tour/
LOCATION:Virtual Event
CATEGORIES:public
ATTACH;FMTTYPE=image/jpeg:https://www.stpetedeltas.org/wp-content/uploads/2020/11/Economic-developmentbustour-4.25x5.5-4.jpg
END:VEVENT
BEGIN:VEVENT
DTSTART;TZID=America/New_York:20201120T191300
DTEND;TZID=America/New_York:20201120T211300
DTSTAMP:20260424T032546
CREATED:20201106T040304Z
LAST-MODIFIED:20201113T034927Z
UID:1275-1605899580-1605906780@www.stpetedeltas.org
SUMMARY:A Night of R & R with DST (Deltas Only)
DESCRIPTION:Sorry but this content is reserved for logged in SPACDST members.  Members\, please log in below. \n        \n            \n				Username or Email Address\n				\n			 \n				Password\n				\n			 Lost Password? Remember Me
URL:https://www.stpetedeltas.org/event/reclamation2020/
LOCATION:ZOOM Virtual Meeting
CATEGORIES:public
ATTACH;FMTTYPE=image/jpeg:https://www.stpetedeltas.org/wp-content/uploads/2020/11/Reclamation-Flyer1c-2.jpg
END:VEVENT
END:VCALENDAR