BEGIN:VCALENDAR
VERSION:2.0
PRODID:-//St. Petersburg Alumnae Chapter of Delta Sigma Theta Sorority, Inc. - ECPv6.15.20//NONSGML v1.0//EN
CALSCALE:GREGORIAN
METHOD:PUBLISH
X-WR-CALNAME:St. Petersburg Alumnae Chapter of Delta Sigma Theta Sorority, Inc.
X-ORIGINAL-URL:https://www.stpetedeltas.org
X-WR-CALDESC:Events for St. Petersburg Alumnae Chapter of Delta Sigma Theta Sorority, Inc.
REFRESH-INTERVAL;VALUE=DURATION:PT1H
X-Robots-Tag:noindex
X-PUBLISHED-TTL:PT1H
BEGIN:VTIMEZONE
TZID:America/New_York
BEGIN:DAYLIGHT
TZOFFSETFROM:-0500
TZOFFSETTO:-0400
TZNAME:EDT
DTSTART:20190310T070000
END:DAYLIGHT
BEGIN:STANDARD
TZOFFSETFROM:-0400
TZOFFSETTO:-0500
TZNAME:EST
DTSTART:20191103T060000
END:STANDARD
BEGIN:DAYLIGHT
TZOFFSETFROM:-0500
TZOFFSETTO:-0400
TZNAME:EDT
DTSTART:20200308T070000
END:DAYLIGHT
BEGIN:STANDARD
TZOFFSETFROM:-0400
TZOFFSETTO:-0500
TZNAME:EST
DTSTART:20201101T060000
END:STANDARD
BEGIN:DAYLIGHT
TZOFFSETFROM:-0500
TZOFFSETTO:-0400
TZNAME:EDT
DTSTART:20210314T070000
END:DAYLIGHT
BEGIN:STANDARD
TZOFFSETFROM:-0400
TZOFFSETTO:-0500
TZNAME:EST
DTSTART:20211107T060000
END:STANDARD
END:VTIMEZONE
BEGIN:VEVENT
DTSTART;TZID=America/New_York:20200726T170000
DTEND;TZID=America/New_York:20200726T190000
DTSTAMP:20260425T085646
CREATED:20200723T002525Z
LAST-MODIFIED:20200820T030007Z
UID:765-1595782800-1595790000@www.stpetedeltas.org
SUMMARY:2020 Gamma Class Red Coat Ceremony & Scholarship Presentation
DESCRIPTION:Join us for the 2020 Gamma Class Red Coat Ceremony & Scholarship Presentation as we close out the Beautillion Gamma Class. We are excited to present these young men to the community.
URL:https://www.stpetedeltas.org/event/beautillion-gamma-class/
ATTACH;FMTTYPE=image/png:https://www.stpetedeltas.org/wp-content/uploads/2020/07/beautillion-2020-thankyou.png
END:VEVENT
BEGIN:VEVENT
DTSTART;TZID=America/New_York:20200620T100000
DTEND;TZID=America/New_York:20200620T120000
DTSTAMP:20260425T085646
CREATED:20200607T204354Z
LAST-MODIFIED:20200912T205542Z
UID:361-1592647200-1592654400@www.stpetedeltas.org
SUMMARY:Coffee in Common: Interracial Friendships and Allyships
DESCRIPTION:Coffee in Common is a monthly series co-hosted by The St. Petersburg Alumnae Chapter of the Delta Sigma Theta Sorority\, Inc. and League of Women Voters of the St. Petersburg Area. Community and business partners include the Carter G. Woodson African American Museum and Hogg Batch Coffee. June’s topic: Interracial Friendships and Allyships. *The sessions will be held virtually until further notice due to the coronavirus pandemic and precautions.* \nThese free and public events are for thoughtful\, open-minded white women and women of color concerning the prescient issues of the day\, to include: white privilege\, racism\, and white supremacy. This series seeks to explore the intersection of politics and race by educating audiences about history\, lived experience\, and facilitating important\, and often uncomfortable\, discussion about race. \nThis month we encourage participants to order your coffee online from our local roasters\, Hogg Batch Coffee\, in time for a special delivery. \nFollowing the presentation\, facilitators will guide discussion on the topic\, its relevance in today’s world\, and honest conversations about the deeply-rooted effects of institutional and systemic racism in our community. It is through open-minded\, free\, and safe discussions among women and the community that we can forge forward together in the struggle with knowledge and power.
URL:https://www.stpetedeltas.org/event/coffee-in-common-jun-20/
CATEGORIES:public
ATTACH;FMTTYPE=image/png:https://www.stpetedeltas.org/wp-content/uploads/2020/06/FB-Post-Coffee-in-Common-Flyer.png
END:VEVENT
BEGIN:VEVENT
DTSTART;TZID=America/New_York:20200613T100000
DTEND;TZID=America/New_York:20200613T123000
DTSTAMP:20260425T085646
CREATED:20200528T033920Z
LAST-MODIFIED:20200608T041822Z
UID:273-1592042400-1592051400@www.stpetedeltas.org
SUMMARY:Monthly Chapter Meeting
DESCRIPTION:  \nWelcome to the St. Petersburg Alumnae Chapter of Delta Sigma Theta Sorority\, Inc. \nDue to COVID-19 restrictions\, meetings are currently being held virtually.  Please contact info@stpetedeltas.org for more information. \nWe meet on the second Saturday of each month from September through to June at the following location unless otherwise indicated:​\nSt. Petersburg College\, Gibbs Campus – Natural Science Building\, SC 232\n6605 5th Avenue North\, St. Petersburg\, Fl. 33710\n10:00am – 12:30pm \n​Our meetings begin promptly at 10am and business attire is required. Meetings are limited to duly initiated members of Delta Sigma Theta Sorority\, Inc. only. Visiting members are always welcomed and will be required to show official proof of membership and picture identification. First time visiting sorors are encouraged to contact our 1st Vice President at 1vp@stpetedeltas.org for verification of credentials prior to admittance. \nWe look forward to welcoming you to St. Petersburg Alumnae!
URL:https://www.stpetedeltas.org/event/monthly-chapter-meeting-jun-20/
LOCATION:​St. Petersburg College\, Gibbs Campus – Natural Science Building\, 6605 5th Avenue North\, St. Petersburg\, FL\, 33710\, United States
CATEGORIES:public_norss
ATTACH;FMTTYPE=image/jpeg:https://www.stpetedeltas.org/wp-content/uploads/2020/05/black-history-2020.jpg
END:VEVENT
BEGIN:VEVENT
DTSTART;TZID=America/New_York:20200509T100000
DTEND;TZID=America/New_York:20200509T120000
DTSTAMP:20260425T085646
CREATED:20200506T215222Z
LAST-MODIFIED:20200506T212307Z
UID:161-1589018400-1589025600@www.stpetedeltas.org
SUMMARY:Monthly Chapter Meeting
DESCRIPTION:  \nWelcome to the St. Petersburg Alumnae Chapter of Delta Sigma Theta Sorority\, Inc. \nWe meet on the second Saturday of each month from September through to June at the following location unless otherwise indicated:\n​St. Petersburg College\, Gibbs Campus – Natural Science Building\, SC 232\n6605 5th Avenue North\, St. Petersburg\, Fl. 33710\n10:00am – 12:00pm \n​Our meetings begin promptly at 10am and business attire is required. Meetings are limited to duly initiated members of Delta Sigma Theta Sorority\, Inc. only. Visiting members are always welcomed and will be required to show official proof of membership and picture identification. First time visiting sorors are encouraged to contact our president at president@stpetedeltas.org for verification of credentials prior to admittance. \nWe look forward to welcoming you to St. Petersburg Alumnae!
URL:https://www.stpetedeltas.org/event/chapter-meeting/
LOCATION:​St. Petersburg College\, Gibbs Campus – Natural Science Building\, 6605 5th Avenue North\, St. Petersburg\, FL\, 33710\, United States
ATTACH;FMTTYPE=image/jpeg:https://www.stpetedeltas.org/wp-content/uploads/2020/05/black-history-2020.jpg
END:VEVENT
END:VCALENDAR