BEGIN:VCALENDAR
VERSION:2.0
PRODID:-//St. Petersburg Alumnae Chapter of Delta Sigma Theta Sorority, Inc. - ECPv6.15.20//NONSGML v1.0//EN
CALSCALE:GREGORIAN
METHOD:PUBLISH
X-WR-CALNAME:St. Petersburg Alumnae Chapter of Delta Sigma Theta Sorority, Inc.
X-ORIGINAL-URL:https://www.stpetedeltas.org
X-WR-CALDESC:Events for St. Petersburg Alumnae Chapter of Delta Sigma Theta Sorority, Inc.
REFRESH-INTERVAL;VALUE=DURATION:PT1H
X-Robots-Tag:noindex
X-PUBLISHED-TTL:PT1H
BEGIN:VTIMEZONE
TZID:America/New_York
BEGIN:DAYLIGHT
TZOFFSETFROM:-0500
TZOFFSETTO:-0400
TZNAME:EDT
DTSTART:20210314T070000
END:DAYLIGHT
BEGIN:STANDARD
TZOFFSETFROM:-0400
TZOFFSETTO:-0500
TZNAME:EST
DTSTART:20211107T060000
END:STANDARD
BEGIN:DAYLIGHT
TZOFFSETFROM:-0500
TZOFFSETTO:-0400
TZNAME:EDT
DTSTART:20220313T070000
END:DAYLIGHT
BEGIN:STANDARD
TZOFFSETFROM:-0400
TZOFFSETTO:-0500
TZNAME:EST
DTSTART:20221106T060000
END:STANDARD
BEGIN:DAYLIGHT
TZOFFSETFROM:-0500
TZOFFSETTO:-0400
TZNAME:EDT
DTSTART:20230312T070000
END:DAYLIGHT
BEGIN:STANDARD
TZOFFSETFROM:-0400
TZOFFSETTO:-0500
TZNAME:EST
DTSTART:20231105T060000
END:STANDARD
END:VTIMEZONE
BEGIN:VEVENT
DTSTART;TZID=America/New_York:20220509T183000
DTEND;TZID=America/New_York:20220509T203000
DTSTAMP:20260426T000954
CREATED:20220509T054536Z
LAST-MODIFIED:20220509T054536Z
UID:3035-1652121000-1652128200@www.stpetedeltas.org
SUMMARY:Monthly Chapter Meeting
DESCRIPTION:  \nWelcome to the St. Petersburg Alumnae Chapter of Delta Sigma Theta Sorority\, Inc. \nDue to COVID-19 restrictions\, meetings are currently being held virtually.  Please contact info@stpetedeltas.org for more information. \nWe meet on the second Saturday of each month from September through to June. \n​Our meetings begin promptly at 10am and business attire is required. Meetings are limited to duly initiated members of Delta Sigma Theta Sorority\, Inc. only. Visiting members are always welcomed and will be required to show official proof of membership and picture identification. First time visiting sorors are encouraged to contact our 1st Vice President at 1vp@stpetedeltas.org for verification of credentials prior to admittance. \nWe look forward to welcoming you to St. Petersburg Alumnae! \nSPAC Members: Please log into the Member’s Only Portal to register for meeting.  Click here to access: Members Only \n 
URL:https://www.stpetedeltas.org/event/chapter-meeting-may-22/
LOCATION:ZOOM Virtual Meeting
CATEGORIES:public
ATTACH;FMTTYPE=image/jpeg:https://www.stpetedeltas.org/wp-content/uploads/2020/05/black-history-2020.jpg
END:VEVENT
BEGIN:VEVENT
DTSTART;TZID=America/New_York:20220514T090000
DTEND;TZID=America/New_York:20220514T140000
DTSTAMP:20260426T000954
CREATED:20220509T062707Z
LAST-MODIFIED:20220509T063658Z
UID:3056-1652518800-1652536800@www.stpetedeltas.org
SUMMARY:PowerUp! - Journey to Physical & Mental Health
DESCRIPTION:Power UP! Journey to Physical & Mental Health Street Festival encourages our community to embody total health and wellness across their lifespan. We are dedicated to working with our community and community partners to promote healthy lifestyles.  \nVendor & Sponsorship opportunities available. Email info@stpetedeltas.org or call 727-755-1913.  \n\n\nBuy Tickets on Eventbrite\n\nRegister
URL:https://www.stpetedeltas.org/event/powerup-2022/
LOCATION:Dr. Carter G. Woodson African American Museum\, 2240 9th Ave S.\, St. Petersburg\, FL\, 33712
CATEGORIES:public
ATTACH;FMTTYPE=image/jpeg:https://www.stpetedeltas.org/wp-content/uploads/2021/10/power-up-22-eventbrite.jpg
END:VEVENT
BEGIN:VEVENT
DTSTART;TZID=America/New_York:20220526T183000
DTEND;TZID=America/New_York:20220526T203000
DTSTAMP:20260426T000954
CREATED:20220509T054907Z
LAST-MODIFIED:20220509T054907Z
UID:3041-1653589800-1653597000@www.stpetedeltas.org
SUMMARY:Monthly Executive Board Meeting
DESCRIPTION:  \nOpen to members only. \nDue to COVID-19 restrictions\, meetings are currently being held virtually.  Please contact info@stpetedeltas.org for more information.
URL:https://www.stpetedeltas.org/event/executive-board-meeting-may-22/
LOCATION:ZOOM Virtual Meeting
CATEGORIES:public
ATTACH;FMTTYPE=image/png:https://www.stpetedeltas.org/wp-content/uploads/2020/05/SPAC_Slider_Empowerment.png
END:VEVENT
END:VCALENDAR