BEGIN:VCALENDAR
VERSION:2.0
PRODID:-//St. Petersburg Alumnae Chapter of Delta Sigma Theta Sorority, Inc. - ECPv6.15.20//NONSGML v1.0//EN
CALSCALE:GREGORIAN
METHOD:PUBLISH
X-ORIGINAL-URL:https://www.stpetedeltas.org
X-WR-CALDESC:Events for St. Petersburg Alumnae Chapter of Delta Sigma Theta Sorority, Inc.
REFRESH-INTERVAL;VALUE=DURATION:PT1H
X-Robots-Tag:noindex
X-PUBLISHED-TTL:PT1H
BEGIN:VTIMEZONE
TZID:America/New_York
BEGIN:DAYLIGHT
TZOFFSETFROM:-0500
TZOFFSETTO:-0400
TZNAME:EDT
DTSTART:20220313T070000
END:DAYLIGHT
BEGIN:STANDARD
TZOFFSETFROM:-0400
TZOFFSETTO:-0500
TZNAME:EST
DTSTART:20221106T060000
END:STANDARD
BEGIN:DAYLIGHT
TZOFFSETFROM:-0500
TZOFFSETTO:-0400
TZNAME:EDT
DTSTART:20230312T070000
END:DAYLIGHT
BEGIN:STANDARD
TZOFFSETFROM:-0400
TZOFFSETTO:-0500
TZNAME:EST
DTSTART:20231105T060000
END:STANDARD
BEGIN:DAYLIGHT
TZOFFSETFROM:-0500
TZOFFSETTO:-0400
TZNAME:EDT
DTSTART:20240310T070000
END:DAYLIGHT
BEGIN:STANDARD
TZOFFSETFROM:-0400
TZOFFSETTO:-0500
TZNAME:EST
DTSTART:20241103T060000
END:STANDARD
END:VTIMEZONE
BEGIN:VEVENT
DTSTART;TZID=America/New_York:20230603T083000
DTEND;TZID=America/New_York:20230603T083000
DTSTAMP:20260425T080321
CREATED:20220509T061028Z
LAST-MODIFIED:20230427T043536Z
UID:3045-1685781000-1685781000@www.stpetedeltas.org
SUMMARY:Prayer Breakfast - IMAGINE. IGNITE. INSPIRE
DESCRIPTION:[vc_row][vc_column][vc_column_text] \nSATURDAY\, JUNE 3RD – 8:30 AM \nThe St. Petersburg Alumnae Chapter of Delta Sigma Theta Sorority\, Inc. cordially invites you to our 2023 Prayer Breakfast – IMAGINE. IGNITE. INSPIRE.  This event is held in collaboration with the St. Petersburg Association for Community Empowerment and Services\, Inc. (S.P.A.C.E.S.) and benefits SPAC’s scholarship fund and community programs.  \nThis year’s keynote speaker is Bishop Paul S. Morton\, Sr.\, founding Bishop of the Full Gospel Baptist Church Fellowship\, International. \n[/vc_column_text][/vc_column][/vc_row][vc_row][vc_column]Buy Tickets[/vc_column][/vc_row]
URL:https://www.stpetedeltas.org/event/prayer-breakfast/
LOCATION:The Coliseum\, 535 4th Ave N\, St. Petersburg\, FL\, 33701\, United States
CATEGORIES:public
ATTACH;FMTTYPE=image/jpeg:https://www.stpetedeltas.org/wp-content/uploads/2023/04/PrayerBreakfast2023.jpg
END:VEVENT
END:VCALENDAR