BEGIN:VCALENDAR
VERSION:2.0
PRODID:-//St. Petersburg Alumnae Chapter of Delta Sigma Theta Sorority, Inc. - ECPv6.15.20//NONSGML v1.0//EN
CALSCALE:GREGORIAN
METHOD:PUBLISH
X-WR-CALNAME:St. Petersburg Alumnae Chapter of Delta Sigma Theta Sorority, Inc.
X-ORIGINAL-URL:https://www.stpetedeltas.org
X-WR-CALDESC:Events for St. Petersburg Alumnae Chapter of Delta Sigma Theta Sorority, Inc.
REFRESH-INTERVAL;VALUE=DURATION:PT1H
X-Robots-Tag:noindex
X-PUBLISHED-TTL:PT1H
BEGIN:VTIMEZONE
TZID:America/New_York
BEGIN:DAYLIGHT
TZOFFSETFROM:-0500
TZOFFSETTO:-0400
TZNAME:EDT
DTSTART:20230312T070000
END:DAYLIGHT
BEGIN:STANDARD
TZOFFSETFROM:-0400
TZOFFSETTO:-0500
TZNAME:EST
DTSTART:20231105T060000
END:STANDARD
BEGIN:DAYLIGHT
TZOFFSETFROM:-0500
TZOFFSETTO:-0400
TZNAME:EDT
DTSTART:20240310T070000
END:DAYLIGHT
BEGIN:STANDARD
TZOFFSETFROM:-0400
TZOFFSETTO:-0500
TZNAME:EST
DTSTART:20241103T060000
END:STANDARD
BEGIN:DAYLIGHT
TZOFFSETFROM:-0500
TZOFFSETTO:-0400
TZNAME:EDT
DTSTART:20250309T070000
END:DAYLIGHT
BEGIN:STANDARD
TZOFFSETFROM:-0400
TZOFFSETTO:-0500
TZNAME:EST
DTSTART:20251102T060000
END:STANDARD
END:VTIMEZONE
BEGIN:VEVENT
DTSTART;TZID=America/New_York:20240113T100000
DTEND;TZID=America/New_York:20240113T123000
DTSTAMP:20260424T230456
CREATED:20240115T051555Z
LAST-MODIFIED:20240115T051555Z
UID:10264-1705140000-1705149000@www.stpetedeltas.org
SUMMARY:Monthly Chapter Meeting
DESCRIPTION:  \nWelcome to the St. Petersburg Alumnae Chapter of Delta Sigma Theta Sorority\, Inc. \nWe meet on the second Saturday of each month from September through to June at the following location unless otherwise indicated:​\nSt. Petersburg College\, Gibbs Campus – Natural Science Building\, SC 232\n6605 5th Avenue North\, St. Petersburg\, Fl. 33710\n10:00am – 12:30pm \n​Our meetings begin promptly at 10am and business attire is required. Meetings are limited to duly initiated members of Delta Sigma Theta Sorority\, Inc. only. Visiting members are always welcomed and will be required to show official proof of membership and picture identification. First time visiting sorors are encouraged to contact our 1st Vice President at 1vp@stpetedeltas.org for verification of credentials prior to admittance. \nWe look forward to welcoming you to St. Petersburg Alumnae!
URL:https://www.stpetedeltas.org/event/monthly-chapter-meeting-jan-24/
LOCATION:​St. Petersburg College\, Gibbs Campus – Natural Science Building\, 6605 5th Avenue North\, St. Petersburg\, FL\, 33710\, United States
CATEGORIES:public
ATTACH;FMTTYPE=image/jpeg:https://www.stpetedeltas.org/wp-content/uploads/2020/05/black-history-2020.jpg
END:VEVENT
BEGIN:VEVENT
DTSTART;TZID=America/New_York:20240118T190000
DTEND;TZID=America/New_York:20240118T203000
DTSTAMP:20260424T230456
CREATED:20240115T050035Z
LAST-MODIFIED:20240117T222306Z
UID:10250-1705604400-1705609800@www.stpetedeltas.org
SUMMARY:Beautillion Militaire Information Session
DESCRIPTION:[vc_row][vc_column][vc_column_text]Calling all high school junior and seniors males! \nThe St. Petersburg Alumnae chapter is excited to announce the Beautillion Militaire. We are recruiting high school juniors and senior males. Join us via Zoom for more information. For any questions\, please email beautillion@stpetedeltas.org[/vc_column_text]Register[/vc_column][/vc_row]
URL:https://www.stpetedeltas.org/event/beautillion-info-session-24/
LOCATION:ZOOM Virtual Meeting
CATEGORIES:beautillion,featured,public
ATTACH;FMTTYPE=image/png:https://www.stpetedeltas.org/wp-content/uploads/2024/01/2024-Beautillion_Info-Session-Flyer.png
END:VEVENT
BEGIN:VEVENT
DTSTART;TZID=America/New_York:20240130T183000
DTEND;TZID=America/New_York:20240130T203000
DTSTAMP:20260424T230456
CREATED:20240115T051217Z
LAST-MODIFIED:20240123T135317Z
UID:10258-1706639400-1706646600@www.stpetedeltas.org
SUMMARY:Monthly Executive Board Meeting
DESCRIPTION:  \nOpen to members only. \nExecutive Board Meetings are held virtually via Zoom.  Please contact info@stpetedeltas.org for more information.
URL:https://www.stpetedeltas.org/event/executive-board-meeting-jan-24/
LOCATION:ZOOM Virtual Meeting
CATEGORIES:public
ATTACH;FMTTYPE=image/png:https://www.stpetedeltas.org/wp-content/uploads/2020/05/SPAC_Slider_Empowerment.png
END:VEVENT
END:VCALENDAR