BEGIN:VCALENDAR
VERSION:2.0
PRODID:-//St. Petersburg Alumnae Chapter of Delta Sigma Theta Sorority, Inc. - ECPv6.15.20//NONSGML v1.0//EN
CALSCALE:GREGORIAN
METHOD:PUBLISH
X-WR-CALNAME:St. Petersburg Alumnae Chapter of Delta Sigma Theta Sorority, Inc.
X-ORIGINAL-URL:https://www.stpetedeltas.org
X-WR-CALDESC:Events for St. Petersburg Alumnae Chapter of Delta Sigma Theta Sorority, Inc.
REFRESH-INTERVAL;VALUE=DURATION:PT1H
X-Robots-Tag:noindex
X-PUBLISHED-TTL:PT1H
BEGIN:VTIMEZONE
TZID:America/New_York
BEGIN:DAYLIGHT
TZOFFSETFROM:-0500
TZOFFSETTO:-0400
TZNAME:EDT
DTSTART:20230312T070000
END:DAYLIGHT
BEGIN:STANDARD
TZOFFSETFROM:-0400
TZOFFSETTO:-0500
TZNAME:EST
DTSTART:20231105T060000
END:STANDARD
BEGIN:DAYLIGHT
TZOFFSETFROM:-0500
TZOFFSETTO:-0400
TZNAME:EDT
DTSTART:20240310T070000
END:DAYLIGHT
BEGIN:STANDARD
TZOFFSETFROM:-0400
TZOFFSETTO:-0500
TZNAME:EST
DTSTART:20241103T060000
END:STANDARD
BEGIN:DAYLIGHT
TZOFFSETFROM:-0500
TZOFFSETTO:-0400
TZNAME:EDT
DTSTART:20250309T070000
END:DAYLIGHT
BEGIN:STANDARD
TZOFFSETFROM:-0400
TZOFFSETTO:-0500
TZNAME:EST
DTSTART:20251102T060000
END:STANDARD
END:VTIMEZONE
BEGIN:VEVENT
DTSTART;TZID=America/New_York:20240201T180000
DTEND;TZID=America/New_York:20240201T200000
DTSTAMP:20260424T215555
CREATED:20240123T113618Z
LAST-MODIFIED:20240123T113741Z
UID:10358-1706810400-1706817600@www.stpetedeltas.org
SUMMARY:Stop Human Trafficking
DESCRIPTION:The St. Petersburg Alumnae Chapter in collaboration with Bethel’s Christian Education Ministry and the St. Petersburg Metropolitan Section of NCNW is sponsoring a “Human Trafficking” Community presentation. \nKNOW THE FACTS: Traffickers use force\, fraud\, or coercion to control victims. It affects individuals of every age\, ethnicity\, gender and socio-economic background.
URL:https://www.stpetedeltas.org/event/stop-human-trafficking/
LOCATION:Bethel Metropolitan Baptist Church\, 3455 26th Avenue South\, St. Petersburg\, FL\, 33711\, United States
CATEGORIES:featured,public
ATTACH;FMTTYPE=image/jpeg:https://www.stpetedeltas.org/wp-content/uploads/2024/01/stop-human-trafficking.jpg
END:VEVENT
BEGIN:VEVENT
DTSTART;TZID=America/New_York:20240204T110000
DTEND;TZID=America/New_York:20240204T140000
DTSTAMP:20260424T215555
CREATED:20240115T053147Z
LAST-MODIFIED:20240115T222507Z
UID:10277-1707044400-1707055200@www.stpetedeltas.org
SUMMARY:Vaccination Clinic
DESCRIPTION:[vc_row][vc_column][vc_column_text] \nPlease join the St. Petersburg Alumnae Chapter\, in conjunction with Aetna and Good Health Wins\, for a vaccination clinic. \nCovid \nFlu \nShingles \nTetanus \nRSV \nPnemonia \nHepatits A+B \nWalk-In Welcome but Sign-Up Below to secure your spot! \n[/vc_column_text]Sign-Up[/vc_column][/vc_row]
URL:https://www.stpetedeltas.org/event/vaccination-clinic-feb-24/
LOCATION:Friendship Missionary Baptist Church\, 3300 31st St S\, St. Petersburg\, FL\, 33712\, United States
CATEGORIES:featured,public
ATTACH;FMTTYPE=image/png:https://www.stpetedeltas.org/wp-content/uploads/2024/01/Vaccination-Clinic-Feb-24.png
END:VEVENT
BEGIN:VEVENT
DTSTART;TZID=America/New_York:20240210T100000
DTEND;TZID=America/New_York:20240210T123000
DTSTAMP:20260424T215555
CREATED:20240115T051626Z
LAST-MODIFIED:20240115T051626Z
UID:10265-1707559200-1707568200@www.stpetedeltas.org
SUMMARY:Monthly Chapter Meeting
DESCRIPTION:  \nWelcome to the St. Petersburg Alumnae Chapter of Delta Sigma Theta Sorority\, Inc. \nWe meet on the second Saturday of each month from September through to June at the following location unless otherwise indicated:​\nSt. Petersburg College\, Gibbs Campus – Natural Science Building\, SC 232\n6605 5th Avenue North\, St. Petersburg\, Fl. 33710\n10:00am – 12:30pm \n​Our meetings begin promptly at 10am and business attire is required. Meetings are limited to duly initiated members of Delta Sigma Theta Sorority\, Inc. only. Visiting members are always welcomed and will be required to show official proof of membership and picture identification. First time visiting sorors are encouraged to contact our 1st Vice President at 1vp@stpetedeltas.org for verification of credentials prior to admittance. \nWe look forward to welcoming you to St. Petersburg Alumnae!
URL:https://www.stpetedeltas.org/event/monthly-chapter-meeting-feb-24/
LOCATION:​St. Petersburg College\, Gibbs Campus – Natural Science Building\, 6605 5th Avenue North\, St. Petersburg\, FL\, 33710\, United States
CATEGORIES:public
ATTACH;FMTTYPE=image/jpeg:https://www.stpetedeltas.org/wp-content/uploads/2020/05/black-history-2020.jpg
END:VEVENT
BEGIN:VEVENT
DTSTART;TZID=America/New_York:20240210T130000
DTEND;TZID=America/New_York:20240210T170000
DTSTAMP:20260424T215555
CREATED:20240115T052042Z
LAST-MODIFIED:20240115T053416Z
UID:10270-1707570000-1707584400@www.stpetedeltas.org
SUMMARY:Super Bold Saturday - Voter Registration Drive
DESCRIPTION:Super BOLD Saturday will be Saturday\, February 10th from 1:00 – 5:00pm. Please join us at Tropicana Field Lot #4 (198 17th St S\, St. Petersburg\, FL 33712).to hear the latest information for Florida voters and rally around new voters engaging in the democratic process for the first time. There will be food trucks\, vendors and entertainment.
URL:https://www.stpetedeltas.org/event/super-bold-saturday-voter-registration-drive/
LOCATION:Tropicana Field Lot #4\, 198 17th St S\, St. Petersburg\, FL\, 33712\, United States
CATEGORIES:featured,public
ATTACH;FMTTYPE=image/jpeg:https://www.stpetedeltas.org/wp-content/uploads/2024/01/Super-BOLD-Saturday-flyer.jpg
END:VEVENT
BEGIN:VEVENT
DTSTART;TZID=America/New_York:20240217T070000
DTEND;TZID=America/New_York:20240217T120000
DTSTAMP:20260424T215555
CREATED:20240210T152513Z
LAST-MODIFIED:20240210T152516Z
UID:10370-1708153200-1708171200@www.stpetedeltas.org
SUMMARY:Get Fit Mt Zion
DESCRIPTION:Activities & Sessions  \n7am – Cycling – meet in the parking lot.  \n8am – Christian Yoga – 3rd fl  \n9am – Nutrition Class/Holistic Wellness – 2nd fl  \n10am – Zumba w/ the Deltas focus – 3rd fl  \n11am – Kickball with Women of Zeal! – Lot G 
URL:https://www.stpetedeltas.org/event/get-fit-mt-zion/
LOCATION:Mt. Zion Progressive Missionary Baptist Church\, 955 20th St S\, St. Petersburg\, FL\, 33712\, United States
CATEGORIES:featured,public
ATTACH;FMTTYPE=image/png:https://www.stpetedeltas.org/wp-content/uploads/2024/02/MZPMBC-SPAC-Get-Fit-Flyer-1-PNG-file.png
END:VEVENT
BEGIN:VEVENT
DTSTART;TZID=America/New_York:20240222T183000
DTEND;TZID=America/New_York:20240222T203000
DTSTAMP:20260424T215555
CREATED:20240115T051307Z
LAST-MODIFIED:20240115T051307Z
UID:10259-1708626600-1708633800@www.stpetedeltas.org
SUMMARY:Monthly Executive Board Meeting
DESCRIPTION:  \nOpen to members only. \nExecutive Board Meetings are held virtually via Zoom.  Please contact info@stpetedeltas.org for more information.
URL:https://www.stpetedeltas.org/event/executive-board-meeting-feb-24/
LOCATION:ZOOM Virtual Meeting
CATEGORIES:public
ATTACH;FMTTYPE=image/png:https://www.stpetedeltas.org/wp-content/uploads/2020/05/SPAC_Slider_Empowerment.png
END:VEVENT
END:VCALENDAR