BEGIN:VCALENDAR
VERSION:2.0
PRODID:-//St. Petersburg Alumnae Chapter of Delta Sigma Theta Sorority, Inc. - ECPv6.15.20//NONSGML v1.0//EN
CALSCALE:GREGORIAN
METHOD:PUBLISH
X-ORIGINAL-URL:https://www.stpetedeltas.org
X-WR-CALDESC:Events for St. Petersburg Alumnae Chapter of Delta Sigma Theta Sorority, Inc.
REFRESH-INTERVAL;VALUE=DURATION:PT1H
X-Robots-Tag:noindex
X-PUBLISHED-TTL:PT1H
BEGIN:VTIMEZONE
TZID:America/New_York
BEGIN:DAYLIGHT
TZOFFSETFROM:-0500
TZOFFSETTO:-0400
TZNAME:EDT
DTSTART:20240310T070000
END:DAYLIGHT
BEGIN:STANDARD
TZOFFSETFROM:-0400
TZOFFSETTO:-0500
TZNAME:EST
DTSTART:20241103T060000
END:STANDARD
BEGIN:DAYLIGHT
TZOFFSETFROM:-0500
TZOFFSETTO:-0400
TZNAME:EDT
DTSTART:20250309T070000
END:DAYLIGHT
BEGIN:STANDARD
TZOFFSETFROM:-0400
TZOFFSETTO:-0500
TZNAME:EST
DTSTART:20251102T060000
END:STANDARD
BEGIN:DAYLIGHT
TZOFFSETFROM:-0500
TZOFFSETTO:-0400
TZNAME:EDT
DTSTART:20260308T070000
END:DAYLIGHT
BEGIN:STANDARD
TZOFFSETFROM:-0400
TZOFFSETTO:-0500
TZNAME:EST
DTSTART:20261101T060000
END:STANDARD
END:VTIMEZONE
BEGIN:VEVENT
DTSTART;TZID=America/New_York:20250510T083000
DTEND;TZID=America/New_York:20250510T113000
DTSTAMP:20260423T230457
CREATED:20250212T004627Z
LAST-MODIFIED:20250219T002718Z
UID:10776-1746865800-1746876600@www.stpetedeltas.org
SUMMARY:2025 Prayer Breakfast with Dr. Jamal Bryant
DESCRIPTION:The St. Petersburg Alumnae Chapter of Delta Sigma Theta Sorority\, Inc. cordially invites you to our 2025 Prayer Breakfast – “In the Midst of It All: Perfect Peace”. This event is held in collaboration with the St. Petersburg Association for Community Empowerment and Service\, Inc (S.P.A.C.E.S.) and a portion of the proceeds benefit SPAC’s scholarship fund and community programs. \nThis year’s keynote speaker is Dr. Jamal Bryant\, Senior Pastor of New Birth Missionary Baptist Church.
URL:https://www.stpetedeltas.org/event/save-the-date-2025-prayer-breakfast/
LOCATION:The Coliseum\, 535 4th Ave N\, St. Petersburg\, FL\, 33701\, United States
CATEGORIES:featured,public
ATTACH;FMTTYPE=image/png:https://www.stpetedeltas.org/wp-content/uploads/2025/02/Screenshot-2025-02-18-at-7.26.14 PM.png
END:VEVENT
BEGIN:VEVENT
DTSTART;TZID=America/New_York:20250512T190000
DTEND;TZID=America/New_York:20250512T203000
DTSTAMP:20260423T230457
CREATED:20250506T035210Z
LAST-MODIFIED:20250506T035210Z
UID:10821-1747076400-1747081800@www.stpetedeltas.org
SUMMARY:MAY WEEK: State of the State- Rising to the Challenge to Social Action
DESCRIPTION:Come join the St. Petersburg Alumnae Chapter of Delta Sigma Theta Sorority\, Inc as we kickoff MAY WEEK 2025 with an event you do NOT want to miss! Please register at the link below.
URL:https://www.stpetedeltas.org/event/may-week-state-of-the-state-rising-to-the-challenge-to-social-action-2/
LOCATION:FL
CATEGORIES:featured,public
ATTACH;FMTTYPE=image/png:https://www.stpetedeltas.org/wp-content/uploads/2025/05/12.png
END:VEVENT
BEGIN:VEVENT
DTSTART;TZID=America/New_York:20250513T183000
DTEND;TZID=America/New_York:20250513T203000
DTSTAMP:20260423T230457
CREATED:20250506T034343Z
LAST-MODIFIED:20250506T035013Z
UID:10829-1747161000-1747168200@www.stpetedeltas.org
SUMMARY:MAY WEEK: Head Wrapping Session
DESCRIPTION:Come join the St. Petersburg Alumnae Chapter of Delta Sigma Theta Sorority\, Inc for our MAY WEEK 2025 for an evening of self care and empowerment through headdress styling!
URL:https://www.stpetedeltas.org/event/may-week-state-of-the-state-rising-to-the-challenge-to-social-action/
LOCATION:Dr. Carter G. Woodson African American Museum\, 2240 9th Ave S.\, St. Petersburg\, FL\, 33712
CATEGORIES:featured,public
ATTACH;FMTTYPE=image/png:https://www.stpetedeltas.org/wp-content/uploads/2025/05/13.png
END:VEVENT
BEGIN:VEVENT
DTSTART;TZID=America/New_York:20250514T183000
DTEND;TZID=America/New_York:20250514T203000
DTSTAMP:20260423T230457
CREATED:20250506T035650Z
LAST-MODIFIED:20250506T035650Z
UID:10834-1747247400-1747254600@www.stpetedeltas.org
SUMMARY:MAY WEEK: Recharge for the Next School Year
DESCRIPTION:Come join the St. Petersburg Alumnae Chapter of Delta Sigma Theta Sorority\, Inc for our MAY WEEK 2025 for an evening of interactive activities for the youth!
URL:https://www.stpetedeltas.org/event/may-week-recharge-for-the-next-school-year/
LOCATION:Mt. Zion Progressive Youth Chapel\, 921 20th St South\, St. Petersburg\, Florida\, 33712
CATEGORIES:featured,public
ATTACH;FMTTYPE=image/png:https://www.stpetedeltas.org/wp-content/uploads/2025/05/14.png
END:VEVENT
BEGIN:VEVENT
DTSTART;TZID=America/New_York:20250515T183000
DTEND;TZID=America/New_York:20250515T203000
DTSTAMP:20260423T230457
CREATED:20250506T040022Z
LAST-MODIFIED:20250506T040022Z
UID:10836-1747333800-1747341000@www.stpetedeltas.org
SUMMARY:MAY WEEK: Grow with Google - Be Prepared for Online Scams
DESCRIPTION:Come join the St. Petersburg Alumnae Chapter of Delta Sigma Theta Sorority\, Inc for our MAY WEEK 2025 for an evening of resume building and scam prevention!
URL:https://www.stpetedeltas.org/event/may-week-grow-with-google-be-prepared-for-online-scams/
LOCATION:Childs Park YMCA\, 691 43rd Street South\, St. Petersburg\, FL\, 33712\, United States
CATEGORIES:featured,public
ATTACH;FMTTYPE=image/png:https://www.stpetedeltas.org/wp-content/uploads/2025/05/15.png
END:VEVENT
BEGIN:VEVENT
DTSTART;TZID=America/New_York:20250517T090000
DTEND;TZID=America/New_York:20250517T130000
DTSTAMP:20260423T230457
CREATED:20250506T040510Z
LAST-MODIFIED:20250506T040610Z
UID:10837-1747472400-1747486800@www.stpetedeltas.org
SUMMARY:MAY WEEK: Power Up
DESCRIPTION:Come join the St. Petersburg Alumnae Chapter of Delta Sigma Theta Sorority\, Inc for our MAY WEEK 2025 biennial POWER UP expo!
URL:https://www.stpetedeltas.org/event/may-week-power-up/
LOCATION:Greater Mt. Zion AME Church\, 1045 16th Street S\, St. Petersburg\, FL\, 33705\, United States
CATEGORIES:featured,public
ATTACH;FMTTYPE=image/jpeg:https://www.stpetedeltas.org/wp-content/uploads/2025/05/17.jpg
END:VEVENT
END:VCALENDAR