BEGIN:VCALENDAR
VERSION:2.0
PRODID:-//St. Petersburg Alumnae Chapter of Delta Sigma Theta Sorority, Inc. - ECPv6.15.20//NONSGML v1.0//EN
CALSCALE:GREGORIAN
METHOD:PUBLISH
X-ORIGINAL-URL:https://www.stpetedeltas.org
X-WR-CALDESC:Events for St. Petersburg Alumnae Chapter of Delta Sigma Theta Sorority, Inc.
REFRESH-INTERVAL;VALUE=DURATION:PT1H
X-Robots-Tag:noindex
X-PUBLISHED-TTL:PT1H
BEGIN:VTIMEZONE
TZID:America/New_York
BEGIN:DAYLIGHT
TZOFFSETFROM:-0500
TZOFFSETTO:-0400
TZNAME:EDT
DTSTART:20250309T070000
END:DAYLIGHT
BEGIN:STANDARD
TZOFFSETFROM:-0400
TZOFFSETTO:-0500
TZNAME:EST
DTSTART:20251102T060000
END:STANDARD
BEGIN:DAYLIGHT
TZOFFSETFROM:-0500
TZOFFSETTO:-0400
TZNAME:EDT
DTSTART:20260308T070000
END:DAYLIGHT
BEGIN:STANDARD
TZOFFSETFROM:-0400
TZOFFSETTO:-0500
TZNAME:EST
DTSTART:20261101T060000
END:STANDARD
BEGIN:DAYLIGHT
TZOFFSETFROM:-0500
TZOFFSETTO:-0400
TZNAME:EDT
DTSTART:20270314T070000
END:DAYLIGHT
BEGIN:STANDARD
TZOFFSETFROM:-0400
TZOFFSETTO:-0500
TZNAME:EST
DTSTART:20271107T060000
END:STANDARD
END:VTIMEZONE
BEGIN:VEVENT
DTSTART;TZID=America/New_York:20260306T180000
DTEND;TZID=America/New_York:20260308T120000
DTSTAMP:20260423T102108
CREATED:20260121T160143Z
LAST-MODIFIED:20260121T160423Z
UID:11056-1772820000-1772971200@www.stpetedeltas.org
SUMMARY:Bay Area Founders Day
DESCRIPTION:[vc_row][vc_column][vc_column_text css=””]This event is for ***SORORS ONLY**. \nPlease email bayareafoundersday@stpetedeltas.org for more information.[/vc_column_text][/vc_column][/vc_row]
URL:https://www.stpetedeltas.org/event/bay-area-founders-day/
LOCATION:TradeWinds Resort\, 5500 Gulf Blvd\, St Pete Beach\, FL\, 33706\, United States
CATEGORIES:featured,public
ATTACH;FMTTYPE=image/png:https://www.stpetedeltas.org/wp-content/uploads/2026/01/2026-Bay-Area-Founders-Day-Flyer.png
END:VEVENT
BEGIN:VEVENT
DTSTART;TZID=America/New_York:20260314T100000
DTEND;TZID=America/New_York:20260314T120000
DTSTAMP:20260423T102108
CREATED:20260121T154041Z
LAST-MODIFIED:20260121T162027Z
UID:11047-1773482400-1773489600@www.stpetedeltas.org
SUMMARY:Chapter Meeting
DESCRIPTION:This event is open to SORORS ONLY. Please contact info@stpetedeltas.org for more information.
URL:https://www.stpetedeltas.org/event/chapter-meeting-6/
CATEGORIES:featured,public
ATTACH;FMTTYPE=image/png:https://www.stpetedeltas.org/wp-content/uploads/2025/11/1.png
END:VEVENT
BEGIN:VEVENT
DTSTART;TZID=America/New_York:20260326T183000
DTEND;TZID=America/New_York:20260326T203000
DTSTAMP:20260423T102108
CREATED:20260121T160920Z
LAST-MODIFIED:20260408T141435Z
UID:11065-1774549800-1774557000@www.stpetedeltas.org
SUMMARY:Executive Board Meeting
DESCRIPTION:
URL:https://www.stpetedeltas.org/event/executive-board-meeting-5/
LOCATION:ZOOM Virtual Meeting
CATEGORIES:public
ATTACH;FMTTYPE=image/png:https://www.stpetedeltas.org/wp-content/uploads/2025/11/2.png
END:VEVENT
END:VCALENDAR